 BEGIN:VCALENDAR
VERSION:2.0
PRODID:-//NIHR HealthTech Research Centre in Accelerated Surgical Care - ECPv6.15.20//NONSGML v1.0//EN
CALSCALE:GREGORIAN
METHOD:PUBLISH
X-WR-CALNAME:NIHR HealthTech Research Centre in Accelerated Surgical Care
X-ORIGINAL-URL:https://hrc-surgical.nihr.ac.uk
X-WR-CALDESC:Events for NIHR HealthTech Research Centre in Accelerated Surgical Care
REFRESH-INTERVAL;VALUE=DURATION:PT1H
X-Robots-Tag:noindex
X-PUBLISHED-TTL:PT1H
BEGIN:VTIMEZONE
TZID:UTC
BEGIN:STANDARD
TZOFFSETFROM:+0000
TZOFFSETTO:+0000
TZNAME:UTC
DTSTART:20230101T000000
END:STANDARD
END:VTIMEZONE
BEGIN:VEVENT
DTSTART;TZID=UTC:20240916T080000
DTEND;TZID=UTC:20240920T170000
DTSTAMP:20260420T233853
CREATED:20240812T182900Z
LAST-MODIFIED:20240812T182900Z
UID:2851-1726473600-1726851600@hrc-surgical.nihr.ac.uk
SUMMARY:Clinical Trial Training for Investigators
DESCRIPTION:
URL:https://hrc-surgical.nihr.ac.uk/event/clinical-trial-training-for-investigators/
LOCATION:University of Liverpool\, The Library Room - Liverpool Guild of Students\, Liverpool\, L3 5TR\, United Kingdom
CATEGORIES:Capacity Building and Training,Non - HRC Events
END:VEVENT
BEGIN:VEVENT
DTSTART;TZID=UTC:20240916T080000
DTEND;TZID=UTC:20240927T170000
DTSTAMP:20260420T233853
CREATED:20240812T173452Z
LAST-MODIFIED:20240812T173452Z
UID:2828-1726473600-1727456400@hrc-surgical.nihr.ac.uk
SUMMARY:Leeds Digital Festival
DESCRIPTION:Leeds Digital Festival is an open\, collaborative celebration of digital culture in all its forms.
URL:https://hrc-surgical.nihr.ac.uk/event/leeds-digital-festival/
CATEGORIES:HRC Partner Events
END:VEVENT
BEGIN:VEVENT
DTSTART;TZID=UTC:20240919T100000
DTEND;TZID=UTC:20240919T120000
DTSTAMP:20260420T233853
CREATED:20240911T093327Z
LAST-MODIFIED:20240911T093327Z
UID:2907-1726740000-1726747200@hrc-surgical.nihr.ac.uk
SUMMARY:IP strategy for digital products
DESCRIPTION:Can I patent an app? A question app developers ask us frequently. Whilst some apps can be difficult to patent\, it’s often possible to obtain IP protection for their key aspects using trade marks or registered designs. \nJoin Patent Attorney Dominic Weston and Trade Mark Attorney Taryn Byrne who will explain the IP strategies available to you to protect your innovations.  \nFollowed by Q&A.
URL:https://hrc-surgical.nihr.ac.uk/event/ip-strategy-for-digital-products/
LOCATION:Platform\, New Station Street\, Leeds\, West Yorkshire\, LS1 4JB\, United Kingdom
CATEGORIES:HRC Partner Events
END:VEVENT
BEGIN:VEVENT
DTSTART;TZID=UTC:20240919T150000
DTEND;TZID=UTC:20240919T180000
DTSTAMP:20260420T233853
CREATED:20240812T174836Z
LAST-MODIFIED:20240812T174836Z
UID:2835-1726758000-1726768800@hrc-surgical.nihr.ac.uk
SUMMARY:Metrology in Healthcare
DESCRIPTION:There are many aspects of measurement in healthcare – measurements on patients\, measurements on medical devices and measurements in the production of these devices. \nThe West Yorkshire region and the companies\, universities and other research organisations within it are proud to be recognised as being at the cutting edge of research and product development in these areas. \nWith these advances\, the measurements needed and the methods for taking them are evolving fast. One constant is the requirement for this data to be high quality\, repeatable and accurate. \nThis event will bring together speakers from NPL and local leading academic institutions to speak about some of the research ongoing in this area and give you a chance to feedback on measurement challenges that will help shape the future of metrology.
URL:https://hrc-surgical.nihr.ac.uk/event/metrology-in-healthcare/
LOCATION:3M Buckley Innovation Centre\, Firth Street\, Huddersfield\, West Yorkshire\, HD1 3BD\, United Kingdom
CATEGORIES:HRC Partner Events
END:VEVENT
END:VCALENDAR