 BEGIN:VCALENDAR
VERSION:2.0
PRODID:-//NIHR HealthTech Research Centre in Accelerated Surgical Care - ECPv6.15.20//NONSGML v1.0//EN
CALSCALE:GREGORIAN
METHOD:PUBLISH
X-ORIGINAL-URL:https://hrc-surgical.nihr.ac.uk
X-WR-CALDESC:Events for NIHR HealthTech Research Centre in Accelerated Surgical Care
REFRESH-INTERVAL;VALUE=DURATION:PT1H
X-Robots-Tag:noindex
X-PUBLISHED-TTL:PT1H
BEGIN:VTIMEZONE
TZID:UTC
BEGIN:STANDARD
TZOFFSETFROM:+0000
TZOFFSETTO:+0000
TZNAME:UTC
DTSTART:20230101T000000
END:STANDARD
END:VTIMEZONE
BEGIN:VEVENT
DTSTART;TZID=UTC:20240916T080000
DTEND;TZID=UTC:20240927T170000
DTSTAMP:20260421T195324
CREATED:20240812T173452Z
LAST-MODIFIED:20240812T173452Z
UID:2828-1726473600-1727456400@hrc-surgical.nihr.ac.uk
SUMMARY:Leeds Digital Festival
DESCRIPTION:Leeds Digital Festival is an open\, collaborative celebration of digital culture in all its forms.
URL:https://hrc-surgical.nihr.ac.uk/event/leeds-digital-festival/
CATEGORIES:HRC Partner Events
END:VEVENT
END:VCALENDAR