 BEGIN:VCALENDAR
VERSION:2.0
PRODID:-//NIHR HealthTech Research Centre in Accelerated Surgical Care - ECPv6.15.20//NONSGML v1.0//EN
CALSCALE:GREGORIAN
METHOD:PUBLISH
X-WR-CALNAME:NIHR HealthTech Research Centre in Accelerated Surgical Care
X-ORIGINAL-URL:https://hrc-surgical.nihr.ac.uk
X-WR-CALDESC:Events for NIHR HealthTech Research Centre in Accelerated Surgical Care
REFRESH-INTERVAL;VALUE=DURATION:PT1H
X-Robots-Tag:noindex
X-PUBLISHED-TTL:PT1H
BEGIN:VTIMEZONE
TZID:UTC
BEGIN:STANDARD
TZOFFSETFROM:+0000
TZOFFSETTO:+0000
TZNAME:UTC
DTSTART:20230101T000000
END:STANDARD
END:VTIMEZONE
BEGIN:VEVENT
DTSTART;TZID=UTC:20241011T080000
DTEND;TZID=UTC:20241011T170000
DTSTAMP:20260422T043412
CREATED:20240812T175848Z
LAST-MODIFIED:20240812T175848Z
UID:2842-1728633600-1728666000@hrc-surgical.nihr.ac.uk
SUMMARY:Research Governance for PIs and Delivery Teams
DESCRIPTION:In addition to carrying out the protocol-driven activities of the research studies in which they participate\, Principal Investigators and their delivery teams must ensure that the studies are managed as required and that all the governance requirements are fulfilled. The course has been designed to give an overview of the governance and management requirements throughout the life cycle of a research study within the NHS/HSC across all the four nations in the UK. \nDuring this interactive study day\, we’ll go through different aspects of study set-up including research funding\, regulatory approvals\, logistics\, safety reporting and local study management. It will also talk about roles and responsibilities of Principal Investigators and study delivery teams in different phases of study management. \nWho should attend? \nThis course has been focused on the role of Principal Investigators and study delivery teams within the NHS/HSC organisations in managing a research project. 
URL:https://hrc-surgical.nihr.ac.uk/event/research-governance-for-pis-and-delivery-teams/
LOCATION:Microsoft Teams
CATEGORIES:Capacity Building and Training,HRC Partner Events
END:VEVENT
END:VCALENDAR