 BEGIN:VCALENDAR
VERSION:2.0
PRODID:-//NIHR HealthTech Research Centre in Accelerated Surgical Care - ECPv6.15.20//NONSGML v1.0//EN
CALSCALE:GREGORIAN
METHOD:PUBLISH
X-ORIGINAL-URL:https://hrc-surgical.nihr.ac.uk
X-WR-CALDESC:Events for NIHR HealthTech Research Centre in Accelerated Surgical Care
REFRESH-INTERVAL;VALUE=DURATION:PT1H
X-Robots-Tag:noindex
X-PUBLISHED-TTL:PT1H
BEGIN:VTIMEZONE
TZID:UTC
BEGIN:STANDARD
TZOFFSETFROM:+0000
TZOFFSETTO:+0000
TZNAME:UTC
DTSTART:20240101T000000
END:STANDARD
END:VTIMEZONE
BEGIN:VEVENT
DTSTART;TZID=UTC:20250506T173000
DTEND;TZID=UTC:20250506T183000
DTSTAMP:20260424T163120
CREATED:20250407T195620Z
LAST-MODIFIED:20250407T200727Z
UID:3187-1746552600-1746556200@hrc-surgical.nihr.ac.uk
SUMMARY:‘How digitalisation increases health inequities’
DESCRIPTION:
URL:https://hrc-surgical.nihr.ac.uk/event/how-digitalisation-increases-health-inequities/
END:VEVENT
END:VCALENDAR