 BEGIN:VCALENDAR
VERSION:2.0
PRODID:-//NIHR HealthTech Research Centre in Accelerated Surgical Care - ECPv6.15.20//NONSGML v1.0//EN
CALSCALE:GREGORIAN
METHOD:PUBLISH
X-ORIGINAL-URL:https://hrc-surgical.nihr.ac.uk
X-WR-CALDESC:Events for NIHR HealthTech Research Centre in Accelerated Surgical Care
REFRESH-INTERVAL;VALUE=DURATION:PT1H
X-Robots-Tag:noindex
X-PUBLISHED-TTL:PT1H
BEGIN:VTIMEZONE
TZID:UTC
BEGIN:STANDARD
TZOFFSETFROM:+0000
TZOFFSETTO:+0000
TZNAME:UTC
DTSTART:20240101T000000
END:STANDARD
END:VTIMEZONE
BEGIN:VEVENT
DTSTART;TZID=UTC:20250507T100000
DTEND;TZID=UTC:20250507T110000
DTSTAMP:20260424T074200
CREATED:20250410T160107Z
LAST-MODIFIED:20250410T160107Z
UID:3192-1746612000-1746615600@hrc-surgical.nihr.ac.uk
SUMMARY:Innovation in action: Inside NICE's HTA Lab
DESCRIPTION:Join us to hear about NICE’s Health Technology Assessment Innovation Laboratory (HTA Lab)\, which was launched in June 2023 to test and develop creative solutions to complex problems in health technology assessment. \nLearn about our past and current projects\, future plans\, and how we fit into the voluntary scheme for branded medicines pricing\, access\, and growth (VPAG) investment programme.
URL:https://hrc-surgical.nihr.ac.uk/event/innovation-in-action-inside-nices-hta-lab/
LOCATION:Microsoft Teams
CATEGORIES:Non - HRC Events
END:VEVENT
END:VCALENDAR