 BEGIN:VCALENDAR
VERSION:2.0
PRODID:-//NIHR HealthTech Research Centre in Accelerated Surgical Care - ECPv6.15.20//NONSGML v1.0//EN
CALSCALE:GREGORIAN
METHOD:PUBLISH
X-WR-CALNAME:NIHR HealthTech Research Centre in Accelerated Surgical Care
X-ORIGINAL-URL:https://hrc-surgical.nihr.ac.uk
X-WR-CALDESC:Events for NIHR HealthTech Research Centre in Accelerated Surgical Care
REFRESH-INTERVAL;VALUE=DURATION:PT1H
X-Robots-Tag:noindex
X-PUBLISHED-TTL:PT1H
BEGIN:VTIMEZONE
TZID:UTC
BEGIN:STANDARD
TZOFFSETFROM:+0000
TZOFFSETTO:+0000
TZNAME:UTC
DTSTART:20240101T000000
END:STANDARD
END:VTIMEZONE
BEGIN:VEVENT
DTSTART;TZID=UTC:20250508T090000
DTEND;TZID=UTC:20250508T170000
DTSTAMP:20260423T173037
CREATED:20241126T141933Z
LAST-MODIFIED:20241126T141933Z
UID:2998-1746694800-1746723600@hrc-surgical.nihr.ac.uk
SUMMARY:Clinical Academics in Training Annual Conference
DESCRIPTION:CATAC is a cross-speciality conference for all aspiring clinical academics currently working in the UK. We use the term “clinical academics in training” to refer to any early-career researcher in medicine or health\, with clinical backgrounds in medicine\, nursing\, midwifery\, dentistry\, veterinary sciences\, physiotherapy\, radiography\, or any other clinical profession.This unique event brings together clinical academics from across disciplines to present their work\, and to develop their networks with each other and senior researchers. \nCATAC 2025 will be held on Thursday 8 May at Leeds City Museum.
URL:https://hrc-surgical.nihr.ac.uk/event/clinical-academics-in-training-annual-conference/
LOCATION:Leeds City Museum\, Millennium Square\,\, Leeds\, West Yorkshire\, LS2 8BH\, United Kingdom
CATEGORIES:Capacity Building and Training,Non - HRC Events
END:VEVENT
END:VCALENDAR