 BEGIN:VCALENDAR
VERSION:2.0
PRODID:-//NIHR HealthTech Research Centre in Accelerated Surgical Care - ECPv6.15.20//NONSGML v1.0//EN
CALSCALE:GREGORIAN
METHOD:PUBLISH
X-WR-CALNAME:NIHR HealthTech Research Centre in Accelerated Surgical Care
X-ORIGINAL-URL:https://hrc-surgical.nihr.ac.uk
X-WR-CALDESC:Events for NIHR HealthTech Research Centre in Accelerated Surgical Care
REFRESH-INTERVAL;VALUE=DURATION:PT1H
X-Robots-Tag:noindex
X-PUBLISHED-TTL:PT1H
BEGIN:VTIMEZONE
TZID:UTC
BEGIN:STANDARD
TZOFFSETFROM:+0000
TZOFFSETTO:+0000
TZNAME:UTC
DTSTART:20240101T000000
END:STANDARD
END:VTIMEZONE
BEGIN:VEVENT
DTSTART;TZID=UTC:20250521T100000
DTEND;TZID=UTC:20250521T120000
DTSTAMP:20260424T064330
CREATED:20250501T131226Z
LAST-MODIFIED:20250501T131226Z
UID:3235-1747821600-1747828800@hrc-surgical.nihr.ac.uk
SUMMARY:No Limits to Innovation: Understanding the UK Funding Landscape
DESCRIPTION:Join us for a webinar designed to demystify the UK’s diverse funding landscape. Whether you’re just starting out or ready to scale\, we’ll guide you through the key financing routes available — empowering you to make informed decisions and move your ideas forward.
URL:https://hrc-surgical.nihr.ac.uk/event/no-limits-to-innovation-understanding-the-uk-funding-landscape/
LOCATION:Microsoft Teams
CATEGORIES:Non - HRC Events
END:VEVENT
END:VCALENDAR