 BEGIN:VCALENDAR
VERSION:2.0
PRODID:-//NIHR HealthTech Research Centre in Accelerated Surgical Care - ECPv6.15.20//NONSGML v1.0//EN
CALSCALE:GREGORIAN
METHOD:PUBLISH
X-ORIGINAL-URL:https://hrc-surgical.nihr.ac.uk
X-WR-CALDESC:Events for NIHR HealthTech Research Centre in Accelerated Surgical Care
REFRESH-INTERVAL;VALUE=DURATION:PT1H
X-Robots-Tag:noindex
X-PUBLISHED-TTL:PT1H
BEGIN:VTIMEZONE
TZID:UTC
BEGIN:STANDARD
TZOFFSETFROM:+0000
TZOFFSETTO:+0000
TZNAME:UTC
DTSTART:20240101T000000
END:STANDARD
END:VTIMEZONE
BEGIN:VEVENT
DTSTART;TZID=UTC:20250522T080000
DTEND;TZID=UTC:20250522T170000
DTSTAMP:20260425T151820
CREATED:20250501T131444Z
LAST-MODIFIED:20250501T131444Z
UID:3236-1747900800-1747933200@hrc-surgical.nihr.ac.uk
SUMMARY:Barclays Black Founder Accelerator
DESCRIPTION:This bespoke 12-week programme is designed to help black-led businesses in the UK become investment-ready and scale successfully. With expert-led funding growth workshops\, business audits\, investor office hours\, and tailored investor introductions\, founders will gain the tools\, knowledge\, and connections needed to secure funding and drive sustainable growth. \nBarclays have partnered with Foundervine to offer the Barclays Black Founder Accelerator programme\, especially designed to champion diversity in entrepreneurship and showcase black founder-led businesses. Foundervine is an award-winning social enterprise with a strong track record of helping entrepreneurs from under-represented communities to start their own business. \nThis programme includes: \n\nA series of 12 expert-led business strategy masterclasses\, focusing on topics such as defining your value proposition\, hiring talent\, sales strategy\, marketing\, intellectual property and much more – all designed to set your business on the road to success.\nMentoring and coaching from world-class scaleup experts.\nAccess to business and networking events.\nDedicated Barclays champions and mentors.\nThe opportunity to showcase your business to potential clients and investors at a founder showcase at the end of the programme.
URL:https://hrc-surgical.nihr.ac.uk/event/barclays-black-founder-accelerator/
LOCATION:Microsoft Teams
CATEGORIES:Non - HRC Events
END:VEVENT
END:VCALENDAR