 BEGIN:VCALENDAR
VERSION:2.0
PRODID:-//NIHR HealthTech Research Centre in Accelerated Surgical Care - ECPv6.15.20//NONSGML v1.0//EN
CALSCALE:GREGORIAN
METHOD:PUBLISH
X-ORIGINAL-URL:https://hrc-surgical.nihr.ac.uk
X-WR-CALDESC:Events for NIHR HealthTech Research Centre in Accelerated Surgical Care
REFRESH-INTERVAL;VALUE=DURATION:PT1H
X-Robots-Tag:noindex
X-PUBLISHED-TTL:PT1H
BEGIN:VTIMEZONE
TZID:UTC
BEGIN:STANDARD
TZOFFSETFROM:+0000
TZOFFSETTO:+0000
TZNAME:UTC
DTSTART:20240101T000000
END:STANDARD
END:VTIMEZONE
BEGIN:VEVENT
DTSTART;TZID=UTC:20250617T090000
DTEND;TZID=UTC:20250617T120000
DTSTAMP:20260422T202940
CREATED:20250213T105650Z
LAST-MODIFIED:20250213T105650Z
UID:3113-1750150800-1750161600@hrc-surgical.nihr.ac.uk
SUMMARY:Talking Point Tuesdays - PPIE in Grant Applications & Patient Engagement
DESCRIPTION:Join us on Tuesday 17th June at 09:00 AM at The Catalyst for a morning of insightful discussions and networking opportunities. At this exciting event\, you’ll learn all about how Patient and Public Involvement and Engagement (PPIE) can be beneficial when looking at grant applications. \nYou’ll hear examples of PPIE that may help you in your journey as health and life sciences business. \nDon’t miss out on this fantastic opportunity! \nThis event is funded by NIHR and free to attend. Attendance is available either online or in -person at The Catalyst in Newcastle. It is open to nationwide small and medium sized businesses operating in the health and life sciences sector.
URL:https://hrc-surgical.nihr.ac.uk/event/talking-point-tuesdays-ppie-in-grant-applications-patient-engagement/
LOCATION:Hybrid Event\, United Kingdom
CATEGORIES:Capacity Building and Training,HRC Partner Events
END:VEVENT
BEGIN:VEVENT
DTSTART;TZID=UTC:20250617T123000
DTEND;TZID=UTC:20250617T133000
DTSTAMP:20260422T202940
CREATED:20250521T135154Z
LAST-MODIFIED:20250521T135154Z
UID:3268-1750163400-1750167000@hrc-surgical.nihr.ac.uk
SUMMARY:Managing Conflict and Difficult Conversation
DESCRIPTION:Please sign up using the link below by Friday\, 13th June\, 3 pm: \nhttps://forms.gle/AdhStH7H7SpaFyy67 \nMeeting link will be distributed to those who have signed up on the day prior to the event.  \nThe sessions will be recorded\, and the recordings will be available after the events on our YouTube channel using the link below: \nhttps://www.youtube.com/@nihrleedsbiomedicalresearc4165/videos
URL:https://hrc-surgical.nihr.ac.uk/event/managing-conflict-and-difficult-conversation/
LOCATION:Microsoft Teams
END:VEVENT
END:VCALENDAR