 BEGIN:VCALENDAR
VERSION:2.0
PRODID:-//NIHR HealthTech Research Centre in Accelerated Surgical Care - ECPv6.15.20//NONSGML v1.0//EN
CALSCALE:GREGORIAN
METHOD:PUBLISH
X-ORIGINAL-URL:https://hrc-surgical.nihr.ac.uk
X-WR-CALDESC:Events for NIHR HealthTech Research Centre in Accelerated Surgical Care
REFRESH-INTERVAL;VALUE=DURATION:PT1H
X-Robots-Tag:noindex
X-PUBLISHED-TTL:PT1H
BEGIN:VTIMEZONE
TZID:UTC
BEGIN:STANDARD
TZOFFSETFROM:+0000
TZOFFSETTO:+0000
TZNAME:UTC
DTSTART:20240101T000000
END:STANDARD
END:VTIMEZONE
BEGIN:VEVENT
DTSTART;TZID=UTC:20250715T080000
DTEND;TZID=UTC:20250717T170000
DTSTAMP:20260426T002248
CREATED:20250218T153708Z
LAST-MODIFIED:20250218T153708Z
UID:3141-1752566400-1752771600@hrc-surgical.nihr.ac.uk
SUMMARY:29th UK Conference on Medical Image Understanding and Analysis (MIUA)
DESCRIPTION:The Medical Image Understanding and Analysis (MIUA) is a UK-based international conference dedicated to the communication of research in image processing\, analysis\, and their applications in medical imaging and biomedicine. As a rapidly growing field with increasing real-world impact\, MIUA serves as the principal platform for sharing progress within the medical imaging community. \nThe conference welcomes researchers from diverse disciplines\, including mathematics\, computer science\, bioinformatics\, clinical practice\, engineering\, and biosciences. MIUA aims to foster collaboration and advance this multidisciplinary field by bringing together experts to share insights\, disseminate findings\, and discuss the latest advancements. \nDesigned to promote the growth and visibility of medical image understanding and analysis\, MIUA encourages active engagement and collaboration across its broad audience\, contributing to the development of innovative solutions in medical and biomedical imaging sciences. \nMIUA covers many topics in medical imaging including: \n\nBiomarker Discovery\nBrain Imaging\nCancer Cardiac Imaging\nCirculation and Microcirculation\nComputational anatomy and physiology\nComputed Tomography\nDeep Learning\nDermatology\nImage Interpretation\nImage Guided Intervention\nImage Physics\nIn-Vivo Intravital Imaging\nInflammation\nMachine Learning\nMagnetic Resonance Imaging\nMicroscopy\nMulti Modal Image Analysis\nNeurology\nNovel Imaging Methods\nPerception Modelling and Simulation\nPositron Emission Imaging\nOphthalmology\nOptical Imaging\nRadiology\nTexture Analysis\nTissue Perfusion\nUltrasound
URL:https://hrc-surgical.nihr.ac.uk/event/29th-uk-conference-on-medical-image-understanding-and-analysis-miua-2/
LOCATION:University of Leeds\, Parkinson Building\, Leeds\, West Yorkshire\, LS2 9JT\, United Kingdom
CATEGORIES:HRC Partner Events
END:VEVENT
END:VCALENDAR