 BEGIN:VCALENDAR
VERSION:2.0
PRODID:-//NIHR HealthTech Research Centre in Accelerated Surgical Care - ECPv6.15.20//NONSGML v1.0//EN
CALSCALE:GREGORIAN
METHOD:PUBLISH
X-WR-CALNAME:NIHR HealthTech Research Centre in Accelerated Surgical Care
X-ORIGINAL-URL:https://hrc-surgical.nihr.ac.uk
X-WR-CALDESC:Events for NIHR HealthTech Research Centre in Accelerated Surgical Care
REFRESH-INTERVAL;VALUE=DURATION:PT1H
X-Robots-Tag:noindex
X-PUBLISHED-TTL:PT1H
BEGIN:VTIMEZONE
TZID:UTC
BEGIN:STANDARD
TZOFFSETFROM:+0000
TZOFFSETTO:+0000
TZNAME:UTC
DTSTART:20240101T000000
END:STANDARD
END:VTIMEZONE
BEGIN:VEVENT
DTSTART;TZID=UTC:20251112T100000
DTEND;TZID=UTC:20251112T160000
DTSTAMP:20260420T104246
CREATED:20250924T093527Z
LAST-MODIFIED:20250924T093527Z
UID:3399-1762941600-1762963200@hrc-surgical.nihr.ac.uk
SUMMARY:HRC Brain Health Innovation
DESCRIPTION:
URL:https://hrc-surgical.nihr.ac.uk/event/hrc-brain-health-innovation/
LOCATION:Science Gallery\, Great Maze Pond\, London\, SE1 9GU\, United Kingdom
CATEGORIES:HRC Partner Events
END:VEVENT
END:VCALENDAR