 BEGIN:VCALENDAR
VERSION:2.0
PRODID:-//NIHR HealthTech Research Centre in Accelerated Surgical Care - ECPv6.15.20//NONSGML v1.0//EN
CALSCALE:GREGORIAN
METHOD:PUBLISH
X-ORIGINAL-URL:https://hrc-surgical.nihr.ac.uk
X-WR-CALDESC:Events for NIHR HealthTech Research Centre in Accelerated Surgical Care
REFRESH-INTERVAL;VALUE=DURATION:PT1H
X-Robots-Tag:noindex
X-PUBLISHED-TTL:PT1H
BEGIN:VTIMEZONE
TZID:UTC
BEGIN:STANDARD
TZOFFSETFROM:+0000
TZOFFSETTO:+0000
TZNAME:UTC
DTSTART:20240101T000000
END:STANDARD
END:VTIMEZONE
BEGIN:VEVENT
DTSTART;TZID=UTC:20251118T123000
DTEND;TZID=UTC:20251118T133000
DTSTAMP:20260423T051032
CREATED:20251013T133103Z
LAST-MODIFIED:20251013T133103Z
UID:3435-1763469000-1763472600@hrc-surgical.nihr.ac.uk
SUMMARY:From hospital to community – partnering to transform respiratory Point-of-Care Testing
DESCRIPTION:Respiratory infections are a major contributor to winter pressures in healthcare\, particularly within secondary where they drive increases in emergency attendance\, admissions and hospital bed occupancy. Implementing a community-based “Test and Treat” pathway incorporating a Point-of-Care Test (POCT) offers a practical and scalable approach to reducing patient deterioration and avoiding unnecessary hospitalisation. By providing rapid\, on-the-spot results\, POCT enables medical professionals to distinguish between viral and bacterial infections\, support appropriate prescribing decisions\, and initiate timely treatment. Through close collaboration between industry\, the Health Innovation Network and the NHS\, these diagnostic tests can be effectively deployed in community settings\, supporting the NHS’s shift toward preventive\, proactive\, and locally delivered care. This approach not only transforms care delivery\, but also strengthens system resilience during periods of high demand. \nOur speaker\nDavid Linden_small\nDr David Linden BEng\, PhD\, MBA\, CEng\, FIMechE\nDr David Linden brings over 30 years of senior leadership experience across research\, product development\, marketing\, and commercial strategy in healthcare. In his current respiratory roles with the Health Innovation Network\, he leads cross-organisational initiatives spanning industry and the NHS\, to assess the real-world impact of innovations on patients and the healthcare system\, finding the most promising solutions for national NHS adoption programmes. With a proven track record in invention and business development\, David is driven by a passion for identifying and accelerating game-changing innovations that tackle the NHS’s toughest challenges\, stimulate economic growth\, and deliver measurable improvements in patient outcomes.
URL:https://hrc-surgical.nihr.ac.uk/event/from-hospital-to-community-partnering-to-transform-respiratory-point-of-care-testing/
LOCATION:Online\, United Kingdom
CATEGORIES:Capacity Building and Training,Patient & Public Involvement and Engagement
END:VEVENT
END:VCALENDAR