 BEGIN:VCALENDAR
VERSION:2.0
PRODID:-//NIHR HealthTech Research Centre in Accelerated Surgical Care - ECPv6.15.20//NONSGML v1.0//EN
CALSCALE:GREGORIAN
METHOD:PUBLISH
X-WR-CALNAME:NIHR HealthTech Research Centre in Accelerated Surgical Care
X-ORIGINAL-URL:https://hrc-surgical.nihr.ac.uk
X-WR-CALDESC:Events for NIHR HealthTech Research Centre in Accelerated Surgical Care
REFRESH-INTERVAL;VALUE=DURATION:PT1H
X-Robots-Tag:noindex
X-PUBLISHED-TTL:PT1H
BEGIN:VTIMEZONE
TZID:UTC
BEGIN:STANDARD
TZOFFSETFROM:+0000
TZOFFSETTO:+0000
TZNAME:UTC
DTSTART:20250101T000000
END:STANDARD
END:VTIMEZONE
BEGIN:VEVENT
DTSTART;VALUE=DATE:20260209
DTEND;VALUE=DATE:20260212
DTSTAMP:20260425T204311
CREATED:20250807T092109Z
LAST-MODIFIED:20250807T092109Z
UID:3364-1770595200-1770854399@hrc-surgical.nihr.ac.uk
SUMMARY:Write to Rise: A REDiC retreat for transformative fellowship and grant writing
DESCRIPTION:This retreat aims to empower racially minoritised professionals in developing competitive applications and rising in their careers through impactful writing.\n\nDetails inc. programme\, eligibility criteria and how to apply will be posted on our website shortly.\n\nApplications will open September 2025.
URL:https://hrc-surgical.nihr.ac.uk/event/write-to-rise-a-redic-retreat-for-transformative-fellowship-and-grant-writing/
LOCATION:Nailcote Hall Hotel & Country Club\, Coventry\, United Kingdom
CATEGORIES:Capacity Building and Training
END:VEVENT
BEGIN:VEVENT
DTSTART;TZID=UTC:20260209T080000
DTEND;TZID=UTC:20260209T170000
DTSTAMP:20260425T204311
CREATED:20250925T085558Z
LAST-MODIFIED:20250925T085558Z
UID:3403-1770624000-1770656400@hrc-surgical.nihr.ac.uk
SUMMARY:Masterclass in the Design and Conduct of Complex Intervention Evaluations
DESCRIPTION:This will be an online course\, running across three consecutive Mondays on January 26th\, February 2nd & 9th 2026. \n\nTeaching will take place live online. \n\nThere will be a strong emphasis on practical exercises where participants will gain hands-on experience in the design and conduct of complex intervention evaluations\, using a variety of real-life examples. \n\nTopics covered include: \n\nWhat makes an intervention complex?\nAn overview of existing frameworks\nThe role of pilot and feasibility studies\nTrial design for complex intervention evaluation\nIntervention implementation and the role of a process evaluation\nPractical considerations in the set-up and delivery of complex intervention trials\n\n\nRegistration is via the University of Leeds Store (link below). An early bird rate of £475 will be available until Friday 19th December 2025. The subsequent registration fee will be £525. Registration will close on Friday 21st January 2026. \n\nBook your place here. \n\nPlease feel free to circulate this email or pass it on to any colleagues you feel may be interested. If you have any further questions\, please don’t hesitate to get in touch.
URL:https://hrc-surgical.nihr.ac.uk/event/masterclass-in-the-design-and-conduct-of-complex-intervention-evaluations-2/
LOCATION:Online\, United Kingdom
CATEGORIES:Capacity Building and Training
END:VEVENT
BEGIN:VEVENT
DTSTART;TZID=UTC:20260209T100000
DTEND;TZID=UTC:20260209T113000
DTSTAMP:20260425T204311
CREATED:20260203T090224Z
LAST-MODIFIED:20260203T090224Z
UID:3577-1770631200-1770636600@hrc-surgical.nihr.ac.uk
SUMMARY:Applying for the NIHR Predoctoral Award\, plus live Q&A
DESCRIPTION:The NIHR Predoctoral Award is designed to advance your health and social care research career at Masters level. It funds a bespoke training and development programme and salary costs for the time undertaking this training.  \n  \nThis one hour webinar will provide advice and support to help you develop a competitive application. We will provide an overview of the award\, explain what the Funding Committee assesses in an application and offer tips for putting your application together.  \n  \nAttend this webinar to learn about the: \n  \n\nKey areas to consider when developing a Predoctoral Award application\nImportance of articulating your career to date and your vision for your future career\nPatient and Public Involvement and Equality\, Diversity and Inclusion requirements\n\n  \nThe Predoctoral Award is available to: \n  \n\nAnyone working in a Local Authority\, or an associated setting\nStatutorily Registered HCPs\, working in NHS settings\nFully qualified General Practitioners\, General Dental Practitioners\, Community Dentists and HCPs working in Primary Care settings\nApplicants proposing to undertake training as a methodologist in one of the applicable methodological areas.\n\nThe webinar will be hosted by Richard Milham\, who will be joined by the Chairs of the Predoctoral Award Funding Committees. 
URL:https://hrc-surgical.nihr.ac.uk/event/applying-for-the-nihr-predoctoral-award-plus-live-qa/
LOCATION:Online\, United Kingdom
CATEGORIES:Capacity Building and Training
END:VEVENT
END:VCALENDAR