 BEGIN:VCALENDAR
VERSION:2.0
PRODID:-//NIHR HealthTech Research Centre in Accelerated Surgical Care - ECPv6.15.20//NONSGML v1.0//EN
CALSCALE:GREGORIAN
METHOD:PUBLISH
X-ORIGINAL-URL:https://hrc-surgical.nihr.ac.uk
X-WR-CALDESC:Events for NIHR HealthTech Research Centre in Accelerated Surgical Care
REFRESH-INTERVAL;VALUE=DURATION:PT1H
X-Robots-Tag:noindex
X-PUBLISHED-TTL:PT1H
BEGIN:VTIMEZONE
TZID:UTC
BEGIN:STANDARD
TZOFFSETFROM:+0000
TZOFFSETTO:+0000
TZNAME:UTC
DTSTART:20250101T000000
END:STANDARD
END:VTIMEZONE
BEGIN:VEVENT
DTSTART;TZID=UTC:20260311T100000
DTEND;TZID=UTC:20260311T153000
DTSTAMP:20260423T154329
CREATED:20260226T143902Z
LAST-MODIFIED:20260226T143902Z
UID:3595-1773223200-1773243000@hrc-surgical.nihr.ac.uk
SUMMARY:From Unmet Need to Evidence Generation
DESCRIPTION:This workshop will be delivered by the NIHR HealthTech Research Centre in Emergency and Acute Care. You’ll benefit from expertise in healthtech evidence generation and evaluation and hear valuable insights about successful HealthTech development in the NHS. \nThe journey from identifying an unmet need to generating evidence for adoption and reimbursement is complex. This workshop will break down the process\, highlight key hurdles\, and share strategies to develop a compelling evidence case and secure funding. \nWhat are the aims of the workshop?\n\nTo help companies that are developing diagnostics\, digital health products\, or medical devices to articulate unmet need from multiple perspectives (clinical\, patient\, economic).\nTo demonstrate what works (and what doesn’t) through real company case studies.\nTo provide a practical framework for structuring your evidence story.\nTo introduce NIHR i4i and other funding routes for evidence generation.\n\nWho should attend?\n\nIndustry innovators (SMEs\, start-ups) developing health technologies for the UK market.\n\n\nIndustry innovators with limited experience of development and commercialisation of novel technology for the NHS.
URL:https://hrc-surgical.nihr.ac.uk/event/from-unmet-need-to-evidence-generation/
LOCATION:Universitiy of Manchester\, Manchester
CATEGORIES:HRC Partner Events
END:VEVENT
BEGIN:VEVENT
DTSTART;TZID=UTC:20260311T100000
DTEND;TZID=UTC:20260311T170000
DTSTAMP:20260423T154329
CREATED:20251123T122807Z
LAST-MODIFIED:20251123T122807Z
UID:3504-1773223200-1773248400@hrc-surgical.nihr.ac.uk
SUMMARY:ABHI Showcase Event
DESCRIPTION:TBC
URL:https://hrc-surgical.nihr.ac.uk/event/abhi-showcase-event/
LOCATION:Leeds Teaching Hospitals NHS Trust\, Old Medical School\, Thoresby Place Great George Street Leeds\, Leeds\, West Yorkshire\, LS1 3EX\, United Kingdom
CATEGORIES:HRC Partner Events
END:VEVENT
BEGIN:VEVENT
DTSTART;TZID=UTC:20260311T120000
DTEND;TZID=UTC:20260311T130000
DTSTAMP:20260423T154329
CREATED:20260306T091717Z
LAST-MODIFIED:20260306T091717Z
UID:3617-1773230400-1773234000@hrc-surgical.nihr.ac.uk
SUMMARY:An introduction to the 2026 INSIGHT competition
DESCRIPTION:The 2026 INSIGHT Competition is a funding opportunity for institutions to deliver regional INSIGHT programmes that will offer engagement activities and research masters studentships in 2027\, 2028 and 2029. Regional INSIGHT programmes play a key role in attracting students and recent graduate clinicians and practitioners into research. The webinar will give participants an introduction to the programme; updates for the 2026 competition\, including the incorporation of INSPIRE funding; and advice on submitting an application. There will also be a Q&A session with panel members.
URL:https://hrc-surgical.nihr.ac.uk/event/an-introduction-to-the-2026-insight-competition/
LOCATION:Online\, United Kingdom
CATEGORIES:Capacity Building and Training,HRC Partner Events
END:VEVENT
END:VCALENDAR