 BEGIN:VCALENDAR
VERSION:2.0
PRODID:-//NIHR HealthTech Research Centre in Accelerated Surgical Care - ECPv6.15.20//NONSGML v1.0//EN
CALSCALE:GREGORIAN
METHOD:PUBLISH
X-WR-CALNAME:NIHR HealthTech Research Centre in Accelerated Surgical Care
X-ORIGINAL-URL:https://hrc-surgical.nihr.ac.uk
X-WR-CALDESC:Events for NIHR HealthTech Research Centre in Accelerated Surgical Care
REFRESH-INTERVAL;VALUE=DURATION:PT1H
X-Robots-Tag:noindex
X-PUBLISHED-TTL:PT1H
BEGIN:VTIMEZONE
TZID:UTC
BEGIN:STANDARD
TZOFFSETFROM:+0000
TZOFFSETTO:+0000
TZNAME:UTC
DTSTART:20250101T000000
END:STANDARD
END:VTIMEZONE
BEGIN:VEVENT
DTSTART;TZID=UTC:20260423T093000
DTEND;TZID=UTC:20260423T160000
DTSTAMP:20260423T161126
CREATED:20260115T122244Z
LAST-MODIFIED:20260115T122244Z
UID:3551-1776936600-1776960000@hrc-surgical.nihr.ac.uk
SUMMARY:Health Economics Workshop
DESCRIPTION:  \nFurther details to follow with registration link \nAcademics\, SME’s\, Clinicians and students are invited to attend this one day workshop. \nNumbers are limited to early registration is a must.
URL:https://hrc-surgical.nihr.ac.uk/event/health-economics-workshop/
LOCATION:Cloth Hall Court\, Quebec Street\, Leeds\, England\, LS1 2HA
END:VEVENT
BEGIN:VEVENT
DTSTART;TZID=UTC:20260423T093000
DTEND;TZID=UTC:20260423T163000
DTSTAMP:20260423T161126
CREATED:20260130T124307Z
LAST-MODIFIED:20260130T124307Z
UID:3568-1776936600-1776961800@hrc-surgical.nihr.ac.uk
SUMMARY:Introduction to Early Economic Evaluation for HealthTech Training Course
DESCRIPTION:We’re running a one-day training workshop on how early economic evaluation can support HealthTech development\, pricing and adoption decisions. \nThis course is designed for SMEs\, academics\, researchers and students interested in HealthTech innovation and evaluation. No prior economics experience is required. \nThrough practical examples and group work\, participants will learn how early models inform value cases\, evidence strategy and commercial planning. \n📍 Cloth Hall Court\, Leeds\n📅 23rd April\n💲 Free to attend (lunch included)\n⚠️ Limited places
URL:https://hrc-surgical.nihr.ac.uk/event/introduction-to-early-economic-evaluation-for-healthtech-training-course/
LOCATION:Cloth Hall Court\, Leeds
CATEGORIES:HRC Themes and Support
END:VEVENT
BEGIN:VEVENT
DTSTART;TZID=UTC:20260423T150000
DTEND;TZID=UTC:20260423T160000
DTSTAMP:20260423T161126
CREATED:20260326T180056Z
LAST-MODIFIED:20260326T180056Z
UID:3675-1776956400-1776960000@hrc-surgical.nihr.ac.uk
SUMMARY:Coffee and Learn: Unlocking the Strategic Value of Patient Engagement in Healthcare Investments - A Tool for the PE Community
DESCRIPTION:This tool equips PE champions with the knowledge\, evidence\, and strategies to position patient engagement (PE) as a value driver in healthcare investment. We’ll explore how integrating patient engagement (PE) into the investment community can align investor motivations with PE’s potential to drive both financial returns and societal impact in healthcare businesses.  \nWhether you want to engage with investors directly or nudge your investor relations colleagues\, don’t miss out on hearing from fellow PE Champions on how they’ve already leveraged this new tool – join us to embark on the shared journey to advance patient-centered solutions with investors! 
URL:https://hrc-surgical.nihr.ac.uk/event/coffee-and-learn-unlocking-the-strategic-value-of-patient-engagement-in-healthcare-investments-a-tool-for-the-pe-community/
LOCATION:Online\, United Kingdom
CATEGORIES:Non - HRC Events,Patient & Public Involvement and Engagement
END:VEVENT
END:VCALENDAR