 BEGIN:VCALENDAR
VERSION:2.0
PRODID:-//NIHR HealthTech Research Centre in Accelerated Surgical Care - ECPv6.15.20//NONSGML v1.0//EN
CALSCALE:GREGORIAN
METHOD:PUBLISH
X-WR-CALNAME:NIHR HealthTech Research Centre in Accelerated Surgical Care
X-ORIGINAL-URL:https://hrc-surgical.nihr.ac.uk
X-WR-CALDESC:Events for NIHR HealthTech Research Centre in Accelerated Surgical Care
REFRESH-INTERVAL;VALUE=DURATION:PT1H
X-Robots-Tag:noindex
X-PUBLISHED-TTL:PT1H
BEGIN:VTIMEZONE
TZID:UTC
BEGIN:STANDARD
TZOFFSETFROM:+0000
TZOFFSETTO:+0000
TZNAME:UTC
DTSTART:20230101T000000
END:STANDARD
END:VTIMEZONE
BEGIN:VEVENT
DTSTART;TZID=UTC:20241001T130000
DTEND;TZID=UTC:20241001T143000
DTSTAMP:20260422T192146
CREATED:20240906T135740Z
LAST-MODIFIED:20240906T135740Z
UID:2892-1727787600-1727793000@hrc-surgical.nihr.ac.uk
SUMMARY:Lunch & Learn: BW-UK Health Industry Procurement - Building Bridges for Better Healthcare
DESCRIPTION:We cordially invite you to our Lunch & Learn event focussing on procurement in the field of medical technology and the cooperation between Baden-Württemberg and the United Kingdom. \nBaden-Württemberg is an economically strong region and an important centre of the medical technology industry. The region is known for its innovative strength and a strong research and development landscape. In addition\, sustainable and high-quality procurement processes are of great importance in Baden-Württemberg. \nThe United Kingdom is an important player in the global medical technology industry. It is investing heavily in digital health technologies and networked medical devices. The medical technology industry is overseen by strict regulations and standards set by the Medicines and Healthcare products Regulatory Agency (MHRA). In addition\, the National Health Service (NHS) plays a central role in procurement and collaboration with the industry. \nThe cooperation between the two regions strengthens the exchange of knowledge as well as market access and the expansion of companies. In addition\, common challenges are facilitated by adapting to regulatory changes and integrating new technologies. \nLearn about the specific procurement strategies and processes of medical technology in the National Health Service (NHS) in the UK. Learn more from Baden-Württemberg about the specifics and challenges of procurement in leading medical technology companies and gain practical insights into the procurement processes of clinics and hospitals and how they select the best products and technologies. \nBe part of this informative event and prepare yourself for the future of medical technology procurement in Baden-Württemberg and the UK.
URL:https://hrc-surgical.nihr.ac.uk/event/lunch-learn-bw-uk-health-industry-procurement-building-bridges-for-better-healthcare/
LOCATION:Zoom
CATEGORIES:Non - HRC Events
END:VEVENT
BEGIN:VEVENT
DTSTART;TZID=UTC:20241010T090000
DTEND;TZID=UTC:20241010T170000
DTSTAMP:20260422T192146
CREATED:20240930T105934Z
LAST-MODIFIED:20240930T105934Z
UID:2929-1728550800-1728579600@hrc-surgical.nihr.ac.uk
SUMMARY:Quantum Sensing in Predictive Health and Early Diagnosis Workshop
DESCRIPTION:About the event \nThis educational workshop targets pharmaceutical and healthcare professionals involved in early-stage diagnosis and disease prediction using quantum sensing and imaging technologies for oncology\, pathology\, and neurology applications. Following presentations\, the event will gather attendees’ opinions on these technologies and their applications in healthcare and policy. \n\nWhy should you attend this event? \n\nTo gain insight into emerging quantum sensors for the healthcare industry.\nTo gain an understanding of technology translation within a healthcare environment.\n\n\nWho should attend this event? \nThis workshop targets medical and healthcare professionals such as clinicians\, horizon scanning teams and companies developing medical devices. No prior experience or knowledge of quantum technologies will be required to take part.
URL:https://hrc-surgical.nihr.ac.uk/event/quantum-sensing-in-predictive-health-and-early-diagnosis-workshop/
LOCATION:etc.venues Prospero House\, 241 Borough High Street\, London\, SE1 1GA\, United Kingdom
CATEGORIES:Non - HRC Events
END:VEVENT
BEGIN:VEVENT
DTSTART;TZID=UTC:20241024T100000
DTEND;TZID=UTC:20241024T170000
DTSTAMP:20260422T192146
CREATED:20240930T104000Z
LAST-MODIFIED:20240930T104000Z
UID:2925-1729764000-1729789200@hrc-surgical.nihr.ac.uk
SUMMARY:Cancer Tech Accelerator Demo Day 2024
DESCRIPTION:What to Expect: \n– Groundbreaking Demos and Pitches: Experience firsthand the cutting-edge projects and revolutionary ideas in cancer technology from our Cancer Tech Accelerator 3.0 cohort. Be prepared to witness the latest advancements in research\, diagnostics\, and treatment that are shaping the future of cancer care! \n– Inspiring Keynotes: Although we’re still finalising our speaker lineup\, rest assured that we’re curating a roster of thought leaders and industry pioneers in the MedTech and cancer research fields who will share their insights and visions for the future. \n– Networking Opportunities: Connect with like-minded individuals\, potential collaborators\, Cancer Tech Accelerator Alumni\, and industry experts. Whether you’re looking to make new connections or strengthen existing ones\, our event is the perfect place to expand your network in the MedTech sphere. \n– Interactive Sessions: Engage with presenters in Ted-Talk style sessions\, ask questions\, and provide feedback. Your participation can help shape the future of these life-changing projects. \n– Surprises and More: We’ve got a few surprises up our sleeves to make sure this Demo Day is not just informative\, but also a lot of fun!
URL:https://hrc-surgical.nihr.ac.uk/event/cancer-tech-accelerator-demo-day-2024/
LOCATION:HGF Limited\, 1 City Walk\, Leeds\, West Yorkshire\, LS11 9DX\, United Kingdom
CATEGORIES:Non - HRC Events
END:VEVENT
BEGIN:VEVENT
DTSTART;TZID=UTC:20241030T170000
DTEND;TZID=UTC:20241030T190000
DTSTAMP:20260422T192146
CREATED:20241015T113543Z
LAST-MODIFIED:20241015T113543Z
UID:2960-1730307600-1730314800@hrc-surgical.nihr.ac.uk
SUMMARY:The Bradford-Renduchintala Enterprise Ecosystem (BREE) - Networking Event
DESCRIPTION:You are invited to join us at the University of Bradford\, for an evening of networking and collaboration. Connect with like-minded individuals\, entrepreneurs\, and professionals who are all part of the Bradford-Renduchintala Enterprise Ecosystem. \nAs you know\, the Bradford-Renduchintala Enterprise Ecosystem plays a pivotal role in unlocking the potential of our diverse and entrepreneurial city. Through tailored programs and networking opportunities\, it empowers individuals from all backgrounds to turn their ideas into reality\, ultimately contributing to the vibrant economic landscape and cultural richness of our community. This event is a celebration of everything we do and the people who have supported this journey so far.
URL:https://hrc-surgical.nihr.ac.uk/event/the-bradford-renduchintala-enterprise-ecosystem-bree-networking-event/
LOCATION:University of Bradford\, Richmond Road\, Bradford\, West Yorkshire\, BD7 1DP\, United Kingdom
CATEGORIES:Non - HRC Events
END:VEVENT
BEGIN:VEVENT
DTSTART;TZID=UTC:20241031T100000
DTEND;TZID=UTC:20241031T150000
DTSTAMP:20260422T192146
CREATED:20240930T104636Z
LAST-MODIFIED:20240930T104636Z
UID:2927-1730368800-1730386800@hrc-surgical.nihr.ac.uk
SUMMARY:College of Science & Engineering INDUSTRY DAYS - Medical Technologies
DESCRIPTION:This meeting aims to address current challenges faced by the industry in the MedTech sector and explore innovative solutions through industry/academia collaborations. \nThe event will offer a unique opportunity to speak to an audience of researchers with a wide variety of expertise\, and thus find the best partner(s) for your innovation journey. \nYou will also gain valuable information on current funding opportunities available for industry/academia collaborations and explore other partnership options at the University of Glasgow. \nWe believe this event will provide a platform to foster partnerships\, drive innovation\, and explore avenues for mutual growth.
URL:https://hrc-surgical.nihr.ac.uk/event/college-of-science-engineering-industry-days-medical-technologies/
LOCATION:Advanced Research Centre (ARC)\, University of Glasgow\, 11 Chapel Lane\, Glasgow\, G11 6EW\, United Kingdom
CATEGORIES:Non - HRC Events
END:VEVENT
END:VCALENDAR