 BEGIN:VCALENDAR
VERSION:2.0
PRODID:-//NIHR HealthTech Research Centre in Accelerated Surgical Care - ECPv6.15.20//NONSGML v1.0//EN
CALSCALE:GREGORIAN
METHOD:PUBLISH
X-ORIGINAL-URL:https://hrc-surgical.nihr.ac.uk
X-WR-CALDESC:Events for NIHR HealthTech Research Centre in Accelerated Surgical Care
REFRESH-INTERVAL;VALUE=DURATION:PT1H
X-Robots-Tag:noindex
X-PUBLISHED-TTL:PT1H
BEGIN:VTIMEZONE
TZID:UTC
BEGIN:STANDARD
TZOFFSETFROM:+0000
TZOFFSETTO:+0000
TZNAME:UTC
DTSTART:20240101T000000
END:STANDARD
END:VTIMEZONE
BEGIN:VEVENT
DTSTART;TZID=UTC:20251114T090000
DTEND;TZID=UTC:20251114T160000
DTSTAMP:20260424T222102
CREATED:20250818T102951Z
LAST-MODIFIED:20250818T102951Z
UID:3375-1763110800-1763136000@hrc-surgical.nihr.ac.uk
SUMMARY:Surgical Workshop Sandpit day - 14th November 2025
DESCRIPTION:We are pleased to share the date for the next NWSTC Surgical Workshop Sandpit day. Please save the details in your diary and share with colleagues who may also be interested. \nDate: Friday 14th November 2025 \nTime: 09:00-16:00 \nLocation: The University of Manchester\, Core Technology Facility\, 46 Grafton Street\, M13 9NT \nWe will share the registration details and agenda with you soon. \nIf you have any queries please do not hesitate to contact nwstc@liverpool.ac.uk or surgicalresearch@manchester.ac.uk
URL:https://hrc-surgical.nihr.ac.uk/event/surgical-workshop-sandpit-day-14th-november-2025/
LOCATION:e University of Manchester\, Core Technology Facility\, 46 Grafton Street\, M13 9NT\, United Kingdom
CATEGORIES:Non - HRC Events
END:VEVENT
BEGIN:VEVENT
DTSTART;TZID=UTC:20251114T093000
DTEND;TZID=UTC:20251114T153000
DTSTAMP:20260424T222102
CREATED:20250912T131722Z
LAST-MODIFIED:20250912T131722Z
UID:3390-1763112600-1763134200@hrc-surgical.nihr.ac.uk
SUMMARY:NWSTC Shaping the Future of Surgery through Research: From Innovation to Delivery Day
DESCRIPTION:
URL:https://hrc-surgical.nihr.ac.uk/event/nwstc-shaping-the-future-of-surgery-through-research-from-innovation-to-delivery-day/
LOCATION:e University of Manchester\, Core Technology Facility\, 46 Grafton Street\, M13 9NT\, United Kingdom
CATEGORIES:Non - HRC Events
END:VEVENT
BEGIN:VEVENT
DTSTART;TZID=UTC:20251120T110000
DTEND;TZID=UTC:20251120T114500
DTSTAMP:20260424T222102
CREATED:20251023T182935Z
LAST-MODIFIED:20251023T182935Z
UID:3441-1763636400-1763639100@hrc-surgical.nihr.ac.uk
SUMMARY:(Webinar) InFocus: Delivering a Neighbourhood Health Service with Jack Sansum
DESCRIPTION:InFocus: Delivering a Neighbourhood Health Service with Jack Sansum \nJoin NHS Confederation colleague Jack Sansum to hear what’s next for neighbourhood health \nIn light of the government’s ambition set out in the 10-Year Health Plan to create a National Neighbourhood Health Implementation Programme\, join Jack Sansum from the NHS Confederation’s Neighbourhood Health team to explore what implementation of this new model of care might look like.  \nTailored for the Confed’s associate members\, this session will provide insights into the shift to a neighbourhood health service\, as well as the challenges and opportunities for the future of community-embedded health provision. Jack Sansum\, Assistant Director of Neighbourhood Health\, will lead this session’s presentation; there will then be an opportunity for Q&A.  \nInFocus is a series of virtual events that help you to engage with NHS Confederation colleagues\, understand the key issues affecting our members and learn more about how you can support NHS leaders.
URL:https://hrc-surgical.nihr.ac.uk/event/webinar-infocus-delivering-a-neighbourhood-health-service-with-jack-sansum/
CATEGORIES:HRC Partner Events,Non - HRC Events
END:VEVENT
BEGIN:VEVENT
DTSTART;TZID=UTC:20251126T110000
DTEND;TZID=UTC:20251126T120000
DTSTAMP:20260424T222102
CREATED:20251110T130442Z
LAST-MODIFIED:20251110T130442Z
UID:3490-1764154800-1764158400@hrc-surgical.nihr.ac.uk
SUMMARY:Tackling cancer inequalities through interdisciplinary research
DESCRIPTION:Explore our research priorities to transform understanding of cancer biology and its intersection with health disparities and inequalities\n\n\n\nNearly 1 in 2 people will be diagnosed with cancer in their lifetime. Yet one of the greatest remaining challenges is understanding how and why cancers affect people differently. \nMarked differences remain in risk factor exposure\, incidence\, stage at diagnosis\, treatment and outcomes across the UK\, mainly driven by inequalities. For example\, cancer death rates are nearly 60% higher for people living in the most deprived areas of the UK compared with the least deprived. \nWhat is the role and contribution of biology underlying these differences? \nHow do these biological mechanisms intersect with environmental\, social and other drivers to contribute to inequalities and health disparities in cancer? \nAddressing these key research areas is one of the ambitious goals of our new EDI in research strategic approach. \nJoin our webinar to hear the perspectives of experts working across disciplines to address cancer inequalities. \nYou’ll also learn more about how we plan to stimulate research in this area and how you can get involved through upcoming funding opportunities. \nMeet our speakers and co-chairs: \nFieke Froeling\, Clinical Senior Lecturer\, University of Glasgow and Team SAMBAI\, Cancer Grand Challenges \nAlastair Lamb\, Senior Clinical Lecturer\, Barts Cancer Institute and Honorary Consultant Urological Surgeon\, Guy’s and St Thomas’ Hospital \nSue Astley Theodossiadis\, Professor of Intelligent Medical Imaging\, The University of Manchester. \nBernard Rachet\, Professor of Cancer Epidemiology\, LSHTM and Inequalities of Cancer Outcomes Network Lead \nFaaria Mohammed\, Patient representative\, member of our Research and Strategy Cancer Insights Panel \nMathew Tata\, Research Programme Manager\, EDI in Research Lead\, Cancer Research UK \nShewly Choudhury\, Head of Research Careers and Culture\, Cancer Research UK
URL:https://hrc-surgical.nihr.ac.uk/event/tackling-cancer-inequalities-through-interdisciplinary-research/
LOCATION:Online\, United Kingdom
CATEGORIES:Non - HRC Events
END:VEVENT
END:VCALENDAR