 BEGIN:VCALENDAR
VERSION:2.0
PRODID:-//NIHR HealthTech Research Centre in Accelerated Surgical Care - ECPv6.15.20//NONSGML v1.0//EN
CALSCALE:GREGORIAN
METHOD:PUBLISH
X-WR-CALNAME:NIHR HealthTech Research Centre in Accelerated Surgical Care
X-ORIGINAL-URL:https://hrc-surgical.nihr.ac.uk
X-WR-CALDESC:Events for NIHR HealthTech Research Centre in Accelerated Surgical Care
REFRESH-INTERVAL;VALUE=DURATION:PT1H
X-Robots-Tag:noindex
X-PUBLISHED-TTL:PT1H
BEGIN:VTIMEZONE
TZID:UTC
BEGIN:STANDARD
TZOFFSETFROM:+0000
TZOFFSETTO:+0000
TZNAME:UTC
DTSTART:20250101T000000
END:STANDARD
END:VTIMEZONE
BEGIN:VEVENT
DTSTART;TZID=UTC:20260114T150000
DTEND;TZID=UTC:20260114T160000
DTSTAMP:20260426T004429
CREATED:20251216T091646Z
LAST-MODIFIED:20251216T091646Z
UID:3525-1768402800-1768406400@hrc-surgical.nihr.ac.uk
SUMMARY:Advancing Cardiovascular Monitoring: From Radar Sensing to Wearable Emergency Detection
DESCRIPTION:In this webinar\, Ela Gruzewska (Google) and Jake Sunshine (University of Washington and Google)\, will explore new advances in using consumer devices aimed at improved cardiovascular monitoring. Their talks will range from heart-rate sensing using radar to detecting cardiac arrest using commodity sensors and wearables. \nJake Sunshine will explore how passive sensing on commodity devices can be employed to recognise life-threatening cardiac and breathing emergencies. \nHe will discuss: \nResearch and development of systems to detect cardiopulmonary emergencies with a focus on watch-based detection of cardiac arrest. \nThe challenges involved in constructing these systems as well as lessons learned in real world deployment. \nEla Gruzewska will explain how Google’s research demonstrated transfer learning between consumer-grade radar modalities\, specifically from Frequency-Modulated Continuous-Wave (FMCW) to Ultra-Wideband (UWB) radar\, for heart-rate monitoring. Drawing on this work\, Ela will highlight how transfer learning can reduce the need for new\, device-specific data collection\, accelerating research and development in the field. \nThis session will be especially valuable for researchers\, clinicians\, digital-health developers.
URL:https://hrc-surgical.nihr.ac.uk/event/advancing-cardiovascular-monitoring-from-radar-sensing-to-wearable-emergency-detection/
LOCATION:Online\, United Kingdom
CATEGORIES:Non - HRC Events
END:VEVENT
END:VCALENDAR