 BEGIN:VCALENDAR
VERSION:2.0
PRODID:-//NIHR HealthTech Research Centre in Accelerated Surgical Care - ECPv6.15.20//NONSGML v1.0//EN
CALSCALE:GREGORIAN
METHOD:PUBLISH
X-WR-CALNAME:NIHR HealthTech Research Centre in Accelerated Surgical Care
X-ORIGINAL-URL:https://hrc-surgical.nihr.ac.uk
X-WR-CALDESC:Events for NIHR HealthTech Research Centre in Accelerated Surgical Care
REFRESH-INTERVAL;VALUE=DURATION:PT1H
X-Robots-Tag:noindex
X-PUBLISHED-TTL:PT1H
BEGIN:VTIMEZONE
TZID:UTC
BEGIN:STANDARD
TZOFFSETFROM:+0000
TZOFFSETTO:+0000
TZNAME:UTC
DTSTART:20230101T000000
END:STANDARD
END:VTIMEZONE
BEGIN:VEVENT
DTSTART;TZID=UTC:20250211T083000
DTEND;TZID=UTC:20250211T150000
DTSTAMP:20260420T175026
CREATED:20250124T090657Z
LAST-MODIFIED:20250124T090657Z
UID:3067-1739262600-1739286000@hrc-surgical.nihr.ac.uk
SUMMARY:MedTech development in the NHS: collaboration\, innovation\, and investment opportunities
DESCRIPTION:Join us for this event\, hosted in partnership with Nexus at the University of Leeds and the NIHR HealthTech Research Centre. MedTech companies can learn about opportunities to collaborate and the support available to develop new technologies or test products in an NHS setting. \nAttendees will have the chance to connect with NHS clinicians involved in innovation\, receive guidance on regulatory requirements\, and gain insights from experts in the investment landscape. At the end of the day\, one-to-one sessions from VCs and other investors can be booked\, offering a chance for you to discuss about your company’s specific needs and goals. \nIf you are seeking guidance on introducing your product to the NHS\, this event is an excellent opportunity.
URL:https://hrc-surgical.nihr.ac.uk/event/medtech-development-in-the-nhs-collaboration-innovation-and-investment-opportunities/
LOCATION:Nexus Leeds\, Nexus at Leeds University\, Discovery Way University of Leeds\, Leeds\, West Yorkshire\, LS2 3AA\, United Kingdom
CATEGORIES:HRC Themes and Support
END:VEVENT
BEGIN:VEVENT
DTSTART;TZID=UTC:20250205T090000
DTEND;TZID=UTC:20250205T170000
DTSTAMP:20260420T175026
CREATED:20241127T114014Z
LAST-MODIFIED:20241127T114014Z
UID:3001-1738746000-1738774800@hrc-surgical.nihr.ac.uk
SUMMARY:2025 Masterclass in the Design and Conduct of Complex Intervention Evaluations
DESCRIPTION:Many health and social care interventions are complex and require careful consideration of key methodological challenges to enable robust evaluation. This workshop will provide attendees with a clear understanding of how to design and conduct a complex intervention evaluation and will include:\n\n• What makes an intervention complex?\n• An overview of existing frameworks\n• The role of pilot and feasibility studies\n• Trial design for complex intervention evaluation\n• Intervention implementation and the role of a process evaluation\n• Practical considerations for trial set-up and delivery \n3 Day online course held on Wednesdays. \nWednesday 29th January\, 5th February and 12th February. \nStructure:\nTeaching will be delivered live online. \nThere will be a strong emphasis on the practical exercises where participants will gain hands-on experience in the design and conduct of complex intervention evaluations\, using a variety of real-life examples from our own experience. \nCourse Requirements: \nClinicians\, Health Professionals\, Researchers and NIHR Academy Members / Fellows interested in planning\, leading\, or being involved in the design and conduct of evaluations of complex interventions would benefit from this masterclass. \nAttendees should already have good working knowledge of clinical trials and be keen to understand the challenges which are specific to evaluating complex interventions. \nThe masterclass is not suitable for those seeking an introduction to clinical trial design. \nEarly-bird registration £475 available until midnight Friday 20th December 2024. \nStandard registration £525 from end of Early Bird until midday Friday 24th January 2025.
URL:https://hrc-surgical.nihr.ac.uk/event/2025-masterclass-in-the-design-and-conduct-of-complex-intervention-evaluations-2/
LOCATION:Microsoft Teams
CATEGORIES:Capacity Building and Training,HRC Partner Events,HRC Themes and Support
END:VEVENT
BEGIN:VEVENT
DTSTART;TZID=UTC:20250131T100000
DTEND;TZID=UTC:20250131T113000
DTSTAMP:20260420T175026
CREATED:20250113T113145Z
LAST-MODIFIED:20250113T113145Z
UID:3056-1738317600-1738323000@hrc-surgical.nihr.ac.uk
SUMMARY:Innovation for Healthcare Net Zero – Call for Innovators!
DESCRIPTION:Join our multidisciplinary team to learn about your chance to take part in our Innovation for Healthcare Net Zero Programme. Designed to assist innovators from an early-stage in developing new technologies for Net Zero Healthcare – the programme will place an emphasis on practical and focused activities on how to navigate the challenges and opportunities associated with embedding sustainability within innovation. \nTarget Audience: MedTech innovators in the early-mid stage of development\, with a focus on embedding environmentally sustainable practice into their innovations. \nThis is a partnership between NIHR HRC Accelerated Surgical Care\, Health Innovation Yorkshire & Humber and Pd-m.
URL:https://hrc-surgical.nihr.ac.uk/event/innovation-for-healthcare-net-zero-call-for-innovators/
LOCATION:Microsoft Teams
CATEGORIES:HRC Themes and Support
END:VEVENT
BEGIN:VEVENT
DTSTART;VALUE=DATE:20250130
DTEND;VALUE=DATE:20250131
DTSTAMP:20260420T175026
CREATED:20240906T143002Z
LAST-MODIFIED:20240906T143002Z
UID:2895-1738195200-1738281599@hrc-surgical.nihr.ac.uk
SUMMARY:National HealthTech Series - London
DESCRIPTION:Each event will involve a series of keynote speeches\, panel discussions\, pitch sessions\, interactive roundtable discussions\, careers fairs and super connect networking sessions involving stakeholders from across the healthcare\, education\, industry\, startup and non-profit sectors.  All sessions will include Q & A providing attendees with opportunities to get involved including the interactive workshops focused on the following topics that you can register to participate in on your registration.
URL:https://hrc-surgical.nihr.ac.uk/event/national-healthtech-series-london/
LOCATION:GBS London\, 260 High Street\, Stratford\, London\, E15 2JA\, United Kingdom
CATEGORIES:Capacity Building and Training,HRC Themes and Support
END:VEVENT
BEGIN:VEVENT
DTSTART;TZID=UTC:20250129T090000
DTEND;TZID=UTC:20250129T170000
DTSTAMP:20260420T175026
CREATED:20241127T113757Z
LAST-MODIFIED:20241127T113757Z
UID:3000-1738141200-1738170000@hrc-surgical.nihr.ac.uk
SUMMARY:2025 Masterclass in the Design and Conduct of Complex Intervention Evaluations
DESCRIPTION:Many health and social care interventions are complex and require careful consideration of key methodological challenges to enable robust evaluation. This workshop will provide attendees with a clear understanding of how to design and conduct a complex intervention evaluation and will include:\n\n• What makes an intervention complex?\n• An overview of existing frameworks\n• The role of pilot and feasibility studies\n• Trial design for complex intervention evaluation\n• Intervention implementation and the role of a process evaluation\n• Practical considerations for trial set-up and delivery \n3 Day online course held on Wednesdays. \nWednesday 29th January\, 5th February and 12th February. \nStructure:\nTeaching will be delivered live online. \nThere will be a strong emphasis on the practical exercises where participants will gain hands-on experience in the design and conduct of complex intervention evaluations\, using a variety of real-life examples from our own experience. \nCourse Requirements: \nClinicians\, Health Professionals\, Researchers and NIHR Academy Members / Fellows interested in planning\, leading\, or being involved in the design and conduct of evaluations of complex interventions would benefit from this masterclass. \nAttendees should already have good working knowledge of clinical trials and be keen to understand the challenges which are specific to evaluating complex interventions. \nThe masterclass is not suitable for those seeking an introduction to clinical trial design. \nEarly-bird registration £475 available until midnight Friday 20th December 2024. \nStandard registration £525 from end of Early Bird until midday Friday 24th January 2025.
URL:https://hrc-surgical.nihr.ac.uk/event/2025-masterclass-in-the-design-and-conduct-of-complex-intervention-evaluations/
LOCATION:Microsoft Teams
CATEGORIES:Capacity Building and Training,HRC Partner Events,HRC Themes and Support
END:VEVENT
BEGIN:VEVENT
DTSTART;TZID=UTC:20241202T130000
DTEND;TZID=UTC:20241202T143000
DTSTAMP:20260420T175026
CREATED:20241107T141422Z
LAST-MODIFIED:20241107T141422Z
UID:2975-1733144400-1733149800@hrc-surgical.nihr.ac.uk
SUMMARY:Circular Economy Solutions for Small Medical Devices through Operational Modelling
DESCRIPTION:This workshop will explore the operational and behavioural factors driving the adoption of circular economy for small medical devices.\n\nWe will present the latest findings from our data-driven decision support models of the circular supply chain for small medical devices\, followed by a short panel discussion with industry experts. More details in the flyer attached.\nJoin us for the opportunity to take part in the discussion and to contribute to the research. We are very keen to hear your views on our models.
URL:https://hrc-surgical.nihr.ac.uk/event/circular-economy-solutions-for-small-medical-devices-through-operational-modelling/
LOCATION:Microsoft Teams
CATEGORIES:HRC Themes and Support
END:VEVENT
BEGIN:VEVENT
DTSTART;TZID=UTC:20241129T093000
DTEND;TZID=UTC:20241129T153000
DTSTAMP:20260420T175026
CREATED:20240924T205321Z
LAST-MODIFIED:20240924T205321Z
UID:2916-1732872600-1732894200@hrc-surgical.nihr.ac.uk
SUMMARY:Collaborate to Innovate – Clinical Problems Meet Engineering & Physical Science Solutions
DESCRIPTION:Are you an emerging clinical researcher with a challenge? Interested to know if engineers or physical scientists could help provide a solution? \n\nThe Centre for HealthTech Innovation has £25k seed funding to offer to support cross disciplinary research. \n\nJoin the Centre Directors: Hemant Pandit\, Ruth Wilcox\, Christoph Walti and guests on Friday 29th November at Weetwood Hall 9:30am – 3:30pm \n\nConnect with Leeds based engineers and physical scientists\, explore potential solutions\, learn about innovating in the HealthTech and MedTech space and how to successfully collaborate across disciplines. \n\nAll attendees will have the chance to apply for seed funding after the event for interdisciplinary projects to explore your ideas further. \n\nAll we need from you is a short description of the challenge you’re looking to address!
URL:https://hrc-surgical.nihr.ac.uk/event/collaborate-to-innovate-clinical-problems-meet-engineering-physical-science-solutions/
LOCATION:Weetwood Hall\, Otley Rd\, Weetwood\,\, Leeds\, West Yorkshire\, LS16 5PS\, United Kingdom
CATEGORIES:HRC Themes and Support
END:VEVENT
BEGIN:VEVENT
DTSTART;TZID=UTC:20241120T130000
DTEND;TZID=UTC:20241120T143000
DTSTAMP:20260420T175026
CREATED:20241115T095523Z
LAST-MODIFIED:20241115T095523Z
UID:2988-1732107600-1732113000@hrc-surgical.nihr.ac.uk
SUMMARY:LTHT Innovation club: Innovation\, Sustainability and Net Zero
DESCRIPTION:Our November Innovation Club will focus on how the Trust is meeting its aims around sustainability and net zero through innovation. You will hear from Estates and Facilities colleagues discussing their decarbonisation process and Green Plan objectives. You will also hear from the sustainability theme leads from the NIHR HRC in Accelerated Surgical Care around their Green Surgery initiative\, J&J discussing the industry perspective on sustainability and WYCA on some funding opportunities.
URL:https://hrc-surgical.nihr.ac.uk/event/ltht-innovation-club-innovation-sustainability-and-net-zero/
LOCATION:Microsoft Teams
CATEGORIES:HRC Themes and Support
END:VEVENT
BEGIN:VEVENT
DTSTART;VALUE=DATE:20241106
DTEND;VALUE=DATE:20241107
DTSTAMP:20260420T175026
CREATED:20240906T142707Z
LAST-MODIFIED:20240906T142732Z
UID:2893-1730851200-1730937599@hrc-surgical.nihr.ac.uk
SUMMARY:National HealthTech Series - Leeds
DESCRIPTION:Each event will involve a series of keynote speeches\, panel discussions\, pitch sessions\, interactive roundtable discussions\, careers fairs and super connect networking sessions involving stakeholders from across the healthcare\, education\, industry\, startup and non-profit sectors.  All sessions will include Q & A providing attendees with opportunities to get involved including the interactive workshops focused on the following topics that you can register to participate in on your registration.
URL:https://hrc-surgical.nihr.ac.uk/event/national-healthtech-series/
LOCATION:GBS\, GBS\, 1 Wellington Place\, Leeds\, West Yorkshire\, LS1 4AP\, United Kingdom
CATEGORIES:Capacity Building and Training,HRC Themes and Support
END:VEVENT
BEGIN:VEVENT
DTSTART;TZID=UTC:20240926T140000
DTEND;TZID=UTC:20240926T170000
DTSTAMP:20260420T175026
CREATED:20240812T175139Z
LAST-MODIFIED:20240812T175139Z
UID:2837-1727359200-1727370000@hrc-surgical.nihr.ac.uk
SUMMARY:Accelerating Digital Innovation Across the NHS (Leeds Digital Festival)
DESCRIPTION:Hosted by the Innovation Pop Up Business Development and Innovation Team\, join us at this exciting networking event to hear details of new digital innovations in healthcare arising from the National Clinical Entrepreneur Programme\, and how the supporting NHS InSites programme is helping to matchmake and streamline the adoption of new innovation in our health sector. \nGuests will hear pitches from entrepreneurs and companies developing exciting new digital applications and have a chance to network with them\, LTHT colleagues\, and other stakeholders from across the Leeds City Region innovation ecosystem.
URL:https://hrc-surgical.nihr.ac.uk/event/accelerating-digital-innovation-across-the-nhs-leeds-digital-festival/
LOCATION:St James’s University Hospital\, Research & Innovation Centre\, Beckett Street\, Leeds\, West Yorkshire\, LS9 7TF\, United Kingdom
CATEGORIES:HRC Themes and Support
END:VEVENT
BEGIN:VEVENT
DTSTART;TZID=UTC:20240917T083000
DTEND;TZID=UTC:20240917T170000
DTSTAMP:20260420T175026
CREATED:20240812T174244Z
LAST-MODIFIED:20240812T174244Z
UID:2831-1726561800-1726592400@hrc-surgical.nihr.ac.uk
SUMMARY:The ReMed Conference: ‘Beyond Disposal: Building a Circular Economy for Medical Devices
DESCRIPTION:The conference aims to provide an overview of the latest research and current industrial initiatives in support of the application of the Circular Economy in the healthcare sector. The programme will feature: \n\nPresentations from industrial and academic practitioners\nPoster session showcasing the latest leading research\nIndustry exhibition and technology demonstrations\n\nWe invite practitioners and leaders working within the NHS and healthcare sector\, industry professionals from across the healthcare supply and recovery chain\, and academic researchers working within multidisciplinary fields encompassing sustainability within the healthcare sector\, to join the conference and contribute to this vibrant and active community. \nThere will be a dedicated poster session during the conference\, with prizes available for the top 3 posters. We welcome poster presentations from academic and industry researchers who would like to share their latest research achievements with conference delegates. We welcome submissions of research around the topic of ‘circular economy of small medical devices’ and from multiple disciplines\, including: engineering\, modelling\, design\, business\, and healthcare science.
URL:https://hrc-surgical.nihr.ac.uk/event/the-remed-conference-beyond-disposal-building-a-circular-economy-for-medical-devices/
LOCATION:Loughborough University\, James France Building\, Room CC012\, Loughborough\, Leicestershire\, LE11 3TU\, United Kingdom
CATEGORIES:HRC Themes and Support
END:VEVENT
END:VCALENDAR