 BEGIN:VCALENDAR
VERSION:2.0
PRODID:-//NIHR HealthTech Research Centre in Accelerated Surgical Care - ECPv6.15.20//NONSGML v1.0//EN
CALSCALE:GREGORIAN
METHOD:PUBLISH
X-WR-CALNAME:NIHR HealthTech Research Centre in Accelerated Surgical Care
X-ORIGINAL-URL:https://hrc-surgical.nihr.ac.uk
X-WR-CALDESC:Events for NIHR HealthTech Research Centre in Accelerated Surgical Care
REFRESH-INTERVAL;VALUE=DURATION:PT1H
X-Robots-Tag:noindex
X-PUBLISHED-TTL:PT1H
BEGIN:VTIMEZONE
TZID:UTC
BEGIN:STANDARD
TZOFFSETFROM:+0000
TZOFFSETTO:+0000
TZNAME:UTC
DTSTART:20240101T000000
END:STANDARD
END:VTIMEZONE
BEGIN:VEVENT
DTSTART;VALUE=DATE:20251106
DTEND;VALUE=DATE:20251108
DTSTAMP:20260422T234915
CREATED:20250811T134907Z
LAST-MODIFIED:20250912T133000Z
UID:3368-1762387200-1762559999@hrc-surgical.nihr.ac.uk
SUMMARY:West Yorkshire HealthTech Launchpad – November Conference
DESCRIPTION:This first-of-its-kind event\, delivered in partnership with the West Yorkshire HealthTech Cluster\, West Yorkshire Combined Authority\, Innovate UK’s West Yorkshire Health Technologies Launchpad (Hosted by Health Innovation Yorkshire & Humber)\, and the West Yorkshire ICB’s HIVE Network\, will showcase why West Yorkshire is recognised globally as a leading region for HealthTech\, Innovation\, and Research. \nThe programme will feature a full day of panels and talks designed to provide clarity on what recent government policy changes mean for innovators in West Yorkshire\, how the region’s HealthTech Cluster is shaping the future for HealthTech innovation\, and how innovators can access the wealth of support available. The event is open to local\, national\, and international HealthTech companies and innovators at any stage\, as well as research and innovation leaders from the West Yorkshire HIVE Network and the West Yorkshire HealthTech Cluster.
URL:https://hrc-surgical.nihr.ac.uk/event/west-yorkshire-healthtech-launchpad-november-conference/
LOCATION:Leeds United A.F.C\, Leeds United A.F.C Elland Road Beeston\, Leeds\, West Yorkshire\, LS11 0ES\, United Kingdom
CATEGORIES:HRC Partner Events
END:VEVENT
BEGIN:VEVENT
DTSTART;TZID=UTC:20251106T083000
DTEND;TZID=UTC:20251106T163000
DTSTAMP:20260422T234915
CREATED:20251002T102931Z
LAST-MODIFIED:20251002T102931Z
UID:3417-1762417800-1762446600@hrc-surgical.nihr.ac.uk
SUMMARY:Bionow Precision Medicine Conference 2025
DESCRIPTION:Discover how precision medicine is transforming the healthcare landscape at the 2025 Bionow Precision Medicine Conference. This event brings together thought leaders\, innovators\, and healthcare professionals to explore advancements in personalised treatment approaches and their impact on patients. \nThe conference will showcase keynote speeches\, engaging panel discussions\, interactive exhibitions\, and exceptional networking opportunities.
URL:https://hrc-surgical.nihr.ac.uk/event/bionow-precision-medicine-conference-2025/
LOCATION:Nexus Leeds\, Nexus at Leeds University\, Discovery Way University of Leeds\, Leeds\, West Yorkshire\, LS2 3AA\, United Kingdom
CATEGORIES:HRC Partner Events
END:VEVENT
BEGIN:VEVENT
DTSTART;TZID=UTC:20251107T083000
DTEND;TZID=UTC:20251107T160000
DTSTAMP:20260422T234915
CREATED:20250929T181927Z
LAST-MODIFIED:20250929T181927Z
UID:3410-1762504200-1762531200@hrc-surgical.nihr.ac.uk
SUMMARY:Connected for Care: Driving Innovation Across Industry\, Academia & the NHS
DESCRIPTION:Connected for Care: Driving Innovation Across Industry\, Academia & the NHS \n📅 7 November 2025 | 📍 Nexus Leeds\, University of Leeds\, 08:30 – 15:30 \nThis one-day conference unites industry\, academia\, and the NHS to accelerate HealthTech innovation. Join us to explore how cutting-edge technologies\, regulatory pathways\, and investment opportunities are shaping the future of healthcare. \nWhy Attend? \nLearn from experts in regulation\, funding\, and health economics\nDiscover how innovations can transform patient outcomes and operational efficiency in the NHS\nConnect with investors\, innovators\, and healthcare leaders\nGain practical insights from real-world case studies \nHosted by: \nNIHR HealthTech Research Centre in Accelerated Surgical Care\nNexus\, University of Leeds\nCPI – Centre for Process Innovation \nFull Agenda Highlights\nOpening remarks from leading innovation partners\nRegulatory overview session with CPI experts\nFunding & investment panel with leading VCs\nCase studies in HealthTech adoption & health economics\nBreakout networking sessions (Funding\, Regulation\, Health Economics)\nClosing remarks and panel discussion
URL:https://hrc-surgical.nihr.ac.uk/event/connected-for-care-driving-innovation-across-industry-academia-the-nhs/
LOCATION:Nexus Leeds\, Nexus at Leeds University\, Discovery Way University of Leeds\, Leeds\, West Yorkshire\, LS2 3AA\, United Kingdom
CATEGORIES:HRC Partner Events,HRC Themes and Support
END:VEVENT
BEGIN:VEVENT
DTSTART;TZID=UTC:20251112T100000
DTEND;TZID=UTC:20251112T160000
DTSTAMP:20260422T234915
CREATED:20250924T093527Z
LAST-MODIFIED:20250924T093527Z
UID:3399-1762941600-1762963200@hrc-surgical.nihr.ac.uk
SUMMARY:HRC Brain Health Innovation
DESCRIPTION:
URL:https://hrc-surgical.nihr.ac.uk/event/hrc-brain-health-innovation/
LOCATION:Science Gallery\, Great Maze Pond\, London\, SE1 9GU\, United Kingdom
CATEGORIES:HRC Partner Events
END:VEVENT
BEGIN:VEVENT
DTSTART;TZID=UTC:20251113T130000
DTEND;TZID=UTC:20251113T140000
DTSTAMP:20260422T234915
CREATED:20251105T144835Z
LAST-MODIFIED:20251105T144835Z
UID:3481-1763038800-1763042400@hrc-surgical.nihr.ac.uk
SUMMARY:Leeds Hospital Charity: Innovation Funding Call
DESCRIPTION:Leeds Hospitals Charity is excited to announce the next round of funding available to support innovative projects within Leeds Teaching Hospitals NHS Trust. \nThis funding round focuses on healthcare innovation\, specifically around the themes of: \n\nAccess into hospitals\nDischarge from hospitals
URL:https://hrc-surgical.nihr.ac.uk/event/leeds-hospital-charity-innovation-funding-call/
LOCATION:Online\, United Kingdom
CATEGORIES:HRC Partner Events
END:VEVENT
BEGIN:VEVENT
DTSTART;VALUE=DATE:20251119
DTEND;VALUE=DATE:20251121
DTSTAMP:20260422T234915
CREATED:20250715T094342Z
LAST-MODIFIED:20250715T094342Z
UID:3349-1763510400-1763683199@hrc-surgical.nihr.ac.uk
SUMMARY:Futures\, Foresight and Horizon Scanning Conference 2025
DESCRIPTION:This year’s conference is shaped by the central theme of Equity\, Ethics and Inclusivity — a call to action for more responsible\, transparent\, and equitable approaches to shaping the future of health and care.  As we face rapid technological advancements\, shifting societal needs\, and increasingly complex health challenges\, we must ensure that innovation works for everyone\, not just the few. Across all discussions and sessions\, we will be exploring how equity\, ethics\, and inclusivity is embedded into foresight\, research\, and decision-making practices from the outset. Through this lens\, we will explore the following key sub-themes : \n  \n\n\n\n\n\n\n\n\n\nAdvancing Horizon Scanning\, Foresight & Futures Methodologies – Exploring cutting-edge methodologies in horizon scanning\, foresight & futures.\nEmerging Disruptors – A deep dive into new and transformative trends\, such as AI-driven health solutions\, digital transformation\, and sector-wide challenges\nInsight to Implementation – Bridging the gap between horizon scanning\, foresight\, futures thinking\, and real-world adoption of technology and innovation.\n\n  \nWhat to look forward to\n\nEngaging keynote presentations from leaders in health\, technology\, ethics\, and futures thinking\nInteractive workshops designed to challenge assumptions and generate inclusive\, future-focused dialogue\nThemed presentations showcasing leading-edge work across foresight\, innovation\, and policy\nA curated exhibition highlighting responsible and inclusive innovation in practice \nMeaningful networking opportunities with cross-sector professionals\nAn optional conference meal on Wednesday 19th November at Blackfriars Restaurant in Newcastle
URL:https://hrc-surgical.nihr.ac.uk/event/futures-foresight-and-horizon-scanning-conference-2025/
LOCATION:The Catalyst\, Science Square\, Newcastle Helix\,\, Newcastle upon Tyne\, NE4 5TG\, United Kingdom
CATEGORIES:HRC Partner Events
END:VEVENT
BEGIN:VEVENT
DTSTART;TZID=UTC:20251119T153000
DTEND;TZID=UTC:20251119T170000
DTSTAMP:20260422T234915
CREATED:20251031T152255Z
LAST-MODIFIED:20251031T152255Z
UID:3463-1763566200-1763571600@hrc-surgical.nihr.ac.uk
SUMMARY:Cutting Edge Precision: The Future of Robotic Surgery
DESCRIPTION:
URL:https://hrc-surgical.nihr.ac.uk/event/cutting-edge-precision-the-future-of-robotic-surgery/
LOCATION:Microsoft Teams
CATEGORIES:HRC Partner Events
END:VEVENT
BEGIN:VEVENT
DTSTART;TZID=UTC:20251120T110000
DTEND;TZID=UTC:20251120T114500
DTSTAMP:20260422T234915
CREATED:20251023T182935Z
LAST-MODIFIED:20251023T182935Z
UID:3441-1763636400-1763639100@hrc-surgical.nihr.ac.uk
SUMMARY:(Webinar) InFocus: Delivering a Neighbourhood Health Service with Jack Sansum
DESCRIPTION:InFocus: Delivering a Neighbourhood Health Service with Jack Sansum \nJoin NHS Confederation colleague Jack Sansum to hear what’s next for neighbourhood health \nIn light of the government’s ambition set out in the 10-Year Health Plan to create a National Neighbourhood Health Implementation Programme\, join Jack Sansum from the NHS Confederation’s Neighbourhood Health team to explore what implementation of this new model of care might look like.  \nTailored for the Confed’s associate members\, this session will provide insights into the shift to a neighbourhood health service\, as well as the challenges and opportunities for the future of community-embedded health provision. Jack Sansum\, Assistant Director of Neighbourhood Health\, will lead this session’s presentation; there will then be an opportunity for Q&A.  \nInFocus is a series of virtual events that help you to engage with NHS Confederation colleagues\, understand the key issues affecting our members and learn more about how you can support NHS leaders.
URL:https://hrc-surgical.nihr.ac.uk/event/webinar-infocus-delivering-a-neighbourhood-health-service-with-jack-sansum/
CATEGORIES:HRC Partner Events,Non - HRC Events
END:VEVENT
BEGIN:VEVENT
DTSTART;TZID=UTC:20251127T130000
DTEND;TZID=UTC:20251127T140000
DTSTAMP:20260422T234915
CREATED:20251108T192125Z
LAST-MODIFIED:20251108T192125Z
UID:3488-1764248400-1764252000@hrc-surgical.nihr.ac.uk
SUMMARY:Insider’s guide to developing your healthtech innovation in the UK
DESCRIPTION:Looking to develop and evaluate your HealthTech innovation in the UK? Join us for an insider’s guide to navigating the UK health and care research ecosystem and understanding the support available through the National Institute for Health and Care Research (NIHR). \nThis session will explore how NIHR’s HealthTech Research Centres and wider research infrastructure can help you design\, test and generate the evidence you need to bring your technology to patients faster. \nHosted by Dr Sajni Haria\, Business Development Lead at NIHR\, the session will feature: \n• Ravi Chana\, Executive Director\, Diagnostics at the Association of British HealthTech Industries (ABHI)\, who will share industry insights and the value of partnering with NIHR to navigate the UK landscape effectively. \n• Professor Richard Dobson\, Co-Founder and Chief Research Officer at CogStack\, who will share real-world experience of collaborating with the NIHR Life Sciences Industry Hub to accelerate development\, evaluation and adoption of data-driven HealthTech. \nJoin us to gain practical insights and learn how working with NIHR can help you successfully develop\, evaluate and launch your HealthTech innovation in the UK. To find out more about NIHR’s free support for the life sciences industry\, visit: nihr.ac.uk/support-and-services/industry
URL:https://hrc-surgical.nihr.ac.uk/event/insiders-guide-to-developing-your-healthtech-innovation-in-the-uk/
LOCATION:Online\, United Kingdom
CATEGORIES:HRC Partner Events
END:VEVENT
BEGIN:VEVENT
DTSTART;TZID=UTC:20251128T100000
DTEND;TZID=UTC:20251128T110000
DTSTAMP:20260422T234915
CREATED:20251108T191540Z
LAST-MODIFIED:20251108T191540Z
UID:3487-1764324000-1764327600@hrc-surgical.nihr.ac.uk
SUMMARY:NICE & NIHR: Enabling HealthTech Development and Uptake
DESCRIPTION:Learn how NICE and the NIHR HRC Network support industry in developing and adopting HealthTech across the health and care system.\n\n\n\nSummary \nThis seminar will be jointly delivered by the NIHR HealthTech Research Centre Network and the NICE Advice team. You’ll benefit from unrivalled expertise in healthtech evidence generation and evaluation and hear valuable insights from NIHR and NICE about how to make the most of opportunities for healthtech development and evaluation support. \nWhat we’ll cover \n\nThe role of NIHR HealthTech Research Centres\nHow NIHR supports HealthTech development\, including evidence generation\nHow technologies are selected for NICE evaluation\nNICE’s lifecycle approach to evaluating HealthTech\nHow NICE advice can support HealthTech
URL:https://hrc-surgical.nihr.ac.uk/event/nice-nihr-enabling-healthtech-development-and-uptake/
LOCATION:Online\, United Kingdom
CATEGORIES:HRC Partner Events
END:VEVENT
END:VCALENDAR