 BEGIN:VCALENDAR
VERSION:2.0
PRODID:-//NIHR HealthTech Research Centre in Accelerated Surgical Care - ECPv6.15.20//NONSGML v1.0//EN
CALSCALE:GREGORIAN
METHOD:PUBLISH
X-WR-CALNAME:NIHR HealthTech Research Centre in Accelerated Surgical Care
X-ORIGINAL-URL:https://hrc-surgical.nihr.ac.uk
X-WR-CALDESC:Events for NIHR HealthTech Research Centre in Accelerated Surgical Care
REFRESH-INTERVAL;VALUE=DURATION:PT1H
X-Robots-Tag:noindex
X-PUBLISHED-TTL:PT1H
BEGIN:VTIMEZONE
TZID:UTC
BEGIN:STANDARD
TZOFFSETFROM:+0000
TZOFFSETTO:+0000
TZNAME:UTC
DTSTART:20240101T000000
END:STANDARD
END:VTIMEZONE
BEGIN:VEVENT
DTSTART;TZID=UTC:20250924T113000
DTEND;TZID=UTC:20250924T153000
DTSTAMP:20260422T061008
CREATED:20250908T115619Z
LAST-MODIFIED:20250908T115619Z
UID:3386-1758713400-1758727800@hrc-surgical.nihr.ac.uk
SUMMARY:Back to the Future: A decade of health innovation development
DESCRIPTION:Step inside our flux capacitor for an unmissable opportunity to journey back through Leeds’ biggest health innovation developments of the last decade – and be transported forward to the future plans\, priorities and trends as we shape the next 10 years. \n2025 marks not only the 10th birthday of Leeds Digital Festival\, but also of Leeds Academic Health Partnership – one of the largest of its kind in the UK. \nA panel of experts will reveal how the city’s radical approach to collaboration has enabled Leeds to boldly go where no ecosystem has gone before\, making the city a world leader in health innovation. \nAnd hold on to your hoverboards as we take an exciting tour of the future health landscape\, from global challenges to national priorities – including the government’s ‘Fit for the Future’ 10-year plan for health. \nHear how world-leading work in Leeds is making science fiction a reality – from personalised cancer vaccines to robotic surgery\, as well as novel approaches to public health and unmatched opportunities for businesses and investors. \nGreat Scott – that’s innovation! \nJoin us to build on the inspiring successes of the last decade\, which pave a clear path to the future. Because where we’re going… we’re going together.
URL:https://hrc-surgical.nihr.ac.uk/event/back-to-the-future-a-decade-of-health-innovation-development/
LOCATION:Nexus Leeds\, Nexus at Leeds University\, Discovery Way University of Leeds\, Leeds\, West Yorkshire\, LS2 3AA\, United Kingdom
CATEGORIES:HRC Partner Events
END:VEVENT
END:VCALENDAR