 BEGIN:VCALENDAR
VERSION:2.0
PRODID:-//NIHR HealthTech Research Centre in Accelerated Surgical Care - ECPv6.15.20//NONSGML v1.0//EN
CALSCALE:GREGORIAN
METHOD:PUBLISH
X-WR-CALNAME:NIHR HealthTech Research Centre in Accelerated Surgical Care
X-ORIGINAL-URL:https://hrc-surgical.nihr.ac.uk
X-WR-CALDESC:Events for NIHR HealthTech Research Centre in Accelerated Surgical Care
REFRESH-INTERVAL;VALUE=DURATION:PT1H
X-Robots-Tag:noindex
X-PUBLISHED-TTL:PT1H
BEGIN:VTIMEZONE
TZID:UTC
BEGIN:STANDARD
TZOFFSETFROM:+0000
TZOFFSETTO:+0000
TZNAME:UTC
DTSTART:20230101T000000
END:STANDARD
END:VTIMEZONE
BEGIN:VEVENT
DTSTART;TZID=UTC:20241017T120000
DTEND;TZID=UTC:20241017T130000
DTSTAMP:20260423T142327
CREATED:20241002T132518Z
LAST-MODIFIED:20241002T132518Z
UID:2943-1729166400-1729170000@hrc-surgical.nihr.ac.uk
SUMMARY:Collaborating with ‘the public’ and experts-by-experience
DESCRIPTION:Dr Sarah McLusky (Sarah McLusky Research-adjacent consultancy\, training and facilitation)\, will deliver a session on collaborating with the end users of research.  This session is open to all staff and students and will be of interest to anyone embarking on translational research and those already working in the translational research space. \n  \nSession details: \nCould your research benefit ordinary people? Could it make their lives healthier\, safer\, or more enjoyable? If so\, then talking to them early and often will make your research better\, more fundable and ultimately more impactful. This workshop will explore some of the principles and practicalities of building research partnerships with potential end users and experts-by-experience.  The session will cover the following areas: \n\nDifferent models of collaboration\nFinding and engaging the right people\nCreating safe spaces and navigating power dynamics\nCompensating people for their time
URL:https://hrc-surgical.nihr.ac.uk/event/collaborating-with-the-public-and-experts-by-experience/
LOCATION:Zoom
CATEGORIES:HRC Partner Events,Patient & Public Involvement and Engagement
END:VEVENT
BEGIN:VEVENT
DTSTART;TZID=UTC:20241011T080000
DTEND;TZID=UTC:20241011T170000
DTSTAMP:20260423T142327
CREATED:20240812T175848Z
LAST-MODIFIED:20240812T175848Z
UID:2842-1728633600-1728666000@hrc-surgical.nihr.ac.uk
SUMMARY:Research Governance for PIs and Delivery Teams
DESCRIPTION:In addition to carrying out the protocol-driven activities of the research studies in which they participate\, Principal Investigators and their delivery teams must ensure that the studies are managed as required and that all the governance requirements are fulfilled. The course has been designed to give an overview of the governance and management requirements throughout the life cycle of a research study within the NHS/HSC across all the four nations in the UK. \nDuring this interactive study day\, we’ll go through different aspects of study set-up including research funding\, regulatory approvals\, logistics\, safety reporting and local study management. It will also talk about roles and responsibilities of Principal Investigators and study delivery teams in different phases of study management. \nWho should attend? \nThis course has been focused on the role of Principal Investigators and study delivery teams within the NHS/HSC organisations in managing a research project. 
URL:https://hrc-surgical.nihr.ac.uk/event/research-governance-for-pis-and-delivery-teams/
LOCATION:Microsoft Teams
CATEGORIES:Capacity Building and Training,HRC Partner Events
END:VEVENT
BEGIN:VEVENT
DTSTART;TZID=UTC:20241009T093000
DTEND;TZID=UTC:20241009T130000
DTSTAMP:20260423T142327
CREATED:20240812T181037Z
LAST-MODIFIED:20240812T181037Z
UID:2846-1728466200-1728478800@hrc-surgical.nihr.ac.uk
SUMMARY:Innovation Champion Network: Refresh
DESCRIPTION:Medipex and Health Innovation Yorkshire and Humber are excited to announce that our joint Innovation Champion Network (ICN) is coming back!  Aimed at all staff working in the NHS across the Yorkshire and Humber region\, free events and resources will help discover why and how to innovate to deliver patient benefits. \nOur offering under the ICN is a combination of online workshops and resources (FutureNHS space) to help NHS staff to take the first step into innovation activities and to network with other like-minded individuals from other organisations to help each other solve problems.  Practical advice will be given as well as signposting to relevant sources of support for those that have an idea that they want to progress. \n  \nThis is exclusively for NHS staff across Yorkshire and Humber.
URL:https://hrc-surgical.nihr.ac.uk/event/innovation-champion-network-refresh/
LOCATION:Microsoft Teams
CATEGORIES:Capacity Building and Training,HRC Partner Events
END:VEVENT
BEGIN:VEVENT
DTSTART;TZID=UTC:20241001T160000
DTEND;TZID=UTC:20241001T180000
DTSTAMP:20260423T142327
CREATED:20240911T140358Z
LAST-MODIFIED:20240911T140358Z
UID:2911-1727798400-1727805600@hrc-surgical.nihr.ac.uk
SUMMARY:Supporting Your Future: up to £10M in Investment Funding Awaits
DESCRIPTION:Co-hosted by Hill Dickinson LLP and Medilink\, this event is a fantastic opportunity for your company – alongside a select group of other medtech companies – to pitch to some of the region’s most prolific high-growth equity investors. You’ll have the chance to present your company’s latest developments\, with time afterward for investors to ask questions and explore the potential for investment. \nWith investment opportunities ranging from £500K to £10M\, this event offers a significant chance to secure the funding your company needs to grow and develop. \nAfter the formal presentations we’ll move into a relaxed networking session with drinks\, where you can connect with other companies in the sector. \nTo secure your position\, you’ll be asked to complete an application that includes a minimum turnover / ARR requirement. While there’s no attendance fee for the event\, we do ask each participant to make a donation to our chosen charity\, The Rob Burrow Centre for Motor Neurone Disease Appeal. The suggested donation amount is £99. \nWe hope you can join us for what promises to be an engaging and rewarding event. \nTo register your interest for this event\, please follow the link below.
URL:https://hrc-surgical.nihr.ac.uk/event/supporting-your-future-up-to-10m-in-investment-funding-awaits/
LOCATION:Hill Dickinson\, 11 Wellington Place\, Leeds\, West Yorkshire\, LS1 4AP\, United Kingdom
CATEGORIES:HRC Partner Events
END:VEVENT
BEGIN:VEVENT
DTSTART;TZID=UTC:20240930T160000
DTEND;TZID=UTC:20240930T170000
DTSTAMP:20260423T142327
CREATED:20240927T123839Z
LAST-MODIFIED:20240927T123839Z
UID:2918-1727712000-1727715600@hrc-surgical.nihr.ac.uk
SUMMARY:EPSRC HealthTech Translation Partnership Scheme Information Session
DESCRIPTION:RIS will be hosting a webinar to provide insights into the soon to be launched EPSRC Healthcare Technology Translation Partnership Scheme (£400k – £1.5m). \nPlus case studies from researchers Steve Evans\, Cath Noakes and Ruth Wilcox who have had success in the previous iteration of the scheme when it was known as “Healthcare Impact Partnerships”. \nTo join us register here. \nThis funding is intended to support the progression of basic and fundamental research towards application and impact within one of the below three challenges. \nEPSRC are looking for partnerships with clinicians and businesses for this call. \n\n\nimproving population health and prevention of ill health\ntransforming prediction and early diagnosis\ndiscovering and accelerating the development of new interventions\n\n\nAgenda \n\nOverview of EPSRC Healthcare Technology Translation Partnership Scheme– Simone Wilkes (HealthTech RIDM) & Bharat Pokhrel (EPSRC RDM)\nCase studies – Steve Evans\, Cath Noakes\, Ruth Wilcox\nQ&A\n\nTo join us register here. \nWe look forward to seeing you there!
URL:https://hrc-surgical.nihr.ac.uk/event/epsrc-healthtech-translation-partnership-scheme-information-session/
LOCATION:Microsoft Teams
CATEGORIES:HRC Partner Events
END:VEVENT
BEGIN:VEVENT
DTSTART;TZID=UTC:20240924T130000
DTEND;TZID=UTC:20240924T143000
DTSTAMP:20260423T142327
CREATED:20240812T180720Z
LAST-MODIFIED:20240812T180720Z
UID:2845-1727182800-1727188200@hrc-surgical.nihr.ac.uk
SUMMARY:Create a successful hybrid working community
DESCRIPTION:Learn how to create a hybrid working community that works for you based on the needs of your role\, team and life outside work. The future of work is hybrid\, with the majority of organisations adopting it as their business model. But hybrid is more than just a business model or a working pattern. It’s a profound shift in how we think about work\, and there is simply no one-size fits all approach. This means leaders and managers need to recognise its impact and weave it smoothly into their organisation’s DNA. Led by leadership experts Cappfinity\, by the end of this webinar\, you will: • discover how to make hybrid working work for you • learn how to create a hybrid working community • explore how to build connections between people and teams • consider ways to ensure everyone is motivated This webinar is open to NIHR Academy Members/leaders and publicly funded organisations conducting and supporting clinical research within the UK.
URL:https://hrc-surgical.nihr.ac.uk/event/create-a-successful-hybrid-working-community/
LOCATION:Microsoft Teams
CATEGORIES:Capacity Building and Training,HRC Partner Events
END:VEVENT
BEGIN:VEVENT
DTSTART;TZID=UTC:20240919T150000
DTEND;TZID=UTC:20240919T180000
DTSTAMP:20260423T142327
CREATED:20240812T174836Z
LAST-MODIFIED:20240812T174836Z
UID:2835-1726758000-1726768800@hrc-surgical.nihr.ac.uk
SUMMARY:Metrology in Healthcare
DESCRIPTION:There are many aspects of measurement in healthcare – measurements on patients\, measurements on medical devices and measurements in the production of these devices. \nThe West Yorkshire region and the companies\, universities and other research organisations within it are proud to be recognised as being at the cutting edge of research and product development in these areas. \nWith these advances\, the measurements needed and the methods for taking them are evolving fast. One constant is the requirement for this data to be high quality\, repeatable and accurate. \nThis event will bring together speakers from NPL and local leading academic institutions to speak about some of the research ongoing in this area and give you a chance to feedback on measurement challenges that will help shape the future of metrology.
URL:https://hrc-surgical.nihr.ac.uk/event/metrology-in-healthcare/
LOCATION:3M Buckley Innovation Centre\, Firth Street\, Huddersfield\, West Yorkshire\, HD1 3BD\, United Kingdom
CATEGORIES:HRC Partner Events
END:VEVENT
BEGIN:VEVENT
DTSTART;TZID=UTC:20240919T100000
DTEND;TZID=UTC:20240919T120000
DTSTAMP:20260423T142327
CREATED:20240911T093327Z
LAST-MODIFIED:20240911T093327Z
UID:2907-1726740000-1726747200@hrc-surgical.nihr.ac.uk
SUMMARY:IP strategy for digital products
DESCRIPTION:Can I patent an app? A question app developers ask us frequently. Whilst some apps can be difficult to patent\, it’s often possible to obtain IP protection for their key aspects using trade marks or registered designs. \nJoin Patent Attorney Dominic Weston and Trade Mark Attorney Taryn Byrne who will explain the IP strategies available to you to protect your innovations.  \nFollowed by Q&A.
URL:https://hrc-surgical.nihr.ac.uk/event/ip-strategy-for-digital-products/
LOCATION:Platform\, New Station Street\, Leeds\, West Yorkshire\, LS1 4JB\, United Kingdom
CATEGORIES:HRC Partner Events
END:VEVENT
BEGIN:VEVENT
DTSTART;TZID=UTC:20240918T130000
DTEND;TZID=UTC:20240918T143000
DTSTAMP:20260423T142327
CREATED:20240812T174523Z
LAST-MODIFIED:20240812T174523Z
UID:2833-1726664400-1726669800@hrc-surgical.nihr.ac.uk
SUMMARY:Leeds Digital Festival Innovation Club: Developing technologies for improved care
DESCRIPTION:Join us for a special Innovation club as part of Leeds Digital Festival. At this online webinar\, you will hear from colleagues from Leeds Teaching Hospitals Trust\, representing ongoing research and innovation projects including the NIHR Leeds Biomedical Research Centre\, and the Virtual Wards/Remote Monitoring team. \nYou will hear about how cutting-edge digital technologies such as artificial intelligence\, remote monitoring\, robotic process automation and many more are being tested\, evaluated and adopted within the hospital.
URL:https://hrc-surgical.nihr.ac.uk/event/leeds-digital-festival-innovation-club-developing-technologies-for-improved-care/
LOCATION:Microsoft Teams
CATEGORIES:HRC Partner Events
END:VEVENT
BEGIN:VEVENT
DTSTART;TZID=UTC:20240917T173000
DTEND;TZID=UTC:20240917T203000
DTSTAMP:20260423T142327
CREATED:20240812T173812Z
LAST-MODIFIED:20240812T173812Z
UID:2829-1726594200-1726605000@hrc-surgical.nihr.ac.uk
SUMMARY:Tech for Health Equality: Bridging the Gap
DESCRIPTION:Come and join us for an evening of talks and networking where healthcare and tech professionals will share their insights on how technology can help reduce health inequalities. Our speakers will share their strategies and showcase solutions that are already making a difference as we discuss this crucial topic.
URL:https://hrc-surgical.nihr.ac.uk/event/tech-for-health-equality-bridging-the-gap/
LOCATION:BJSS\, 1 Whitehall Quay\, Leeds\, West Yorkshire\, LS1 4HR\, United Kingdom
CATEGORIES:HRC Partner Events
END:VEVENT
BEGIN:VEVENT
DTSTART;TZID=UTC:20240917T100000
DTEND;TZID=UTC:20240917T120000
DTSTAMP:20260423T142327
CREATED:20240911T093132Z
LAST-MODIFIED:20240911T093132Z
UID:2905-1726567200-1726574400@hrc-surgical.nihr.ac.uk
SUMMARY:MedTech Software Success for Startups - regulations and IP
DESCRIPTION:Page White Farrer Patent Attorney Dr Andy McKinlay is joined by MedTech regulation specialist Dr Iain Charlton of Charlton Regulatory Consulting. They will explain the impact of the regulatory framework and IP in bringing your MedTech innovation to market. \nWe’ll also be tackling the impact of the EU AI Act on MedTech companies – the timelines and practical implications\, and how the requirements for providing details of your AI to the regulator might affect your IP strategy.
URL:https://hrc-surgical.nihr.ac.uk/event/medtech-software-success-for-startups-regulations-and-ip/
LOCATION:Platform\, New Station Street\, Leeds\, West Yorkshire\, LS1 4JB\, United Kingdom
CATEGORIES:HRC Partner Events
END:VEVENT
BEGIN:VEVENT
DTSTART;TZID=UTC:20240916T080000
DTEND;TZID=UTC:20240927T170000
DTSTAMP:20260423T142327
CREATED:20240812T173452Z
LAST-MODIFIED:20240812T173452Z
UID:2828-1726473600-1727456400@hrc-surgical.nihr.ac.uk
SUMMARY:Leeds Digital Festival
DESCRIPTION:Leeds Digital Festival is an open\, collaborative celebration of digital culture in all its forms.
URL:https://hrc-surgical.nihr.ac.uk/event/leeds-digital-festival/
LOCATION:West Yorkshire
CATEGORIES:HRC Partner Events
END:VEVENT
BEGIN:VEVENT
DTSTART;TZID=UTC:20240905T130000
DTEND;TZID=UTC:20240905T140000
DTSTAMP:20260423T142327
CREATED:20240812T180411Z
LAST-MODIFIED:20240812T180411Z
UID:2844-1725541200-1725544800@hrc-surgical.nihr.ac.uk
SUMMARY:Free NIHR webinar: Everyone needs a mentor
DESCRIPTION:In this webinar we will learn why everyone needs a mentor. Exploring: \n\nThe different approaches to mentoring\nFormal vs informal mentoring\nProgramme and societal drivers\nThe benefits of mentoring\nThe relationship between mentoring and networks\nThe importance of networks\nThe NIHR Mentoring Programme\n\nThis webinar is open to NIHR Academy Members/leaders and publicly funded organisations conducting and supporting clinical research within the UK. \nYou might have recently started thinking about getting a mentor and want some more information about where to start\, or you might want to learn more about mentoring in general. \nThe NIHR Mentoring Programme has recently expanded. The programme now supports NIHR Academy Members in their final year PhD and postdoctoral researchers to find a mentor from the NIHR research community. \nThe NIHR Mentoring Programme is open to a broad range of professional and disciplinary contexts across our diverse health and social care communities to mentor others and to seek a mentor. \nThe NIHR Mentoring Programme has been highly rated by past participants:\n– 94% of mentors and 84% of mentees were either very satisfied or satisfied with their mentoring match.\n– 100% mentors and 92% mentees felt the NIHR Mentoring Programme met all or most of their expectations
URL:https://hrc-surgical.nihr.ac.uk/event/free-nihr-webinar-everyone-needs-a-mentor/
LOCATION:Microsoft Teams
CATEGORIES:Capacity Building and Training,HRC Partner Events
END:VEVENT
BEGIN:VEVENT
DTSTART;TZID=UTC:20240905T093000
DTEND;TZID=UTC:20240905T153000
DTSTAMP:20260423T142327
CREATED:20240812T173302Z
LAST-MODIFIED:20240812T173302Z
UID:2826-1725528600-1725550200@hrc-surgical.nihr.ac.uk
SUMMARY:AI Innovation in Healthcare
DESCRIPTION:This free\, interactive event brings together national & local leaders to explore how artificial intelligence is transforming healthcare.
URL:https://hrc-surgical.nihr.ac.uk/event/ai-innovation-in-healthcare/
LOCATION:The John Smith’s Stadium Huddersfield HD1 6PG\, The John Smith's Stadium\, Huddersfield\, West Yorkshire\, HD1 6PG\, United Kingdom
CATEGORIES:HRC Partner Events
END:VEVENT
END:VCALENDAR