 BEGIN:VCALENDAR
VERSION:2.0
PRODID:-//NIHR HealthTech Research Centre in Accelerated Surgical Care - ECPv6.15.20//NONSGML v1.0//EN
CALSCALE:GREGORIAN
METHOD:PUBLISH
X-WR-CALNAME:NIHR HealthTech Research Centre in Accelerated Surgical Care
X-ORIGINAL-URL:https://hrc-surgical.nihr.ac.uk
X-WR-CALDESC:Events for NIHR HealthTech Research Centre in Accelerated Surgical Care
REFRESH-INTERVAL;VALUE=DURATION:PT1H
X-Robots-Tag:noindex
X-PUBLISHED-TTL:PT1H
BEGIN:VTIMEZONE
TZID:UTC
BEGIN:STANDARD
TZOFFSETFROM:+0000
TZOFFSETTO:+0000
TZNAME:UTC
DTSTART:20240101T000000
END:STANDARD
END:VTIMEZONE
BEGIN:VEVENT
DTSTART;TZID=UTC:20250603T123000
DTEND;TZID=UTC:20250603T133000
DTSTAMP:20260424T161939
CREATED:20250520T094144Z
LAST-MODIFIED:20250520T094144Z
UID:3264-1748953800-1748957400@hrc-surgical.nihr.ac.uk
SUMMARY:Clinical Trial - Baskets\, Umbrellas and Platforms and all things Adaptive
DESCRIPTION:Online. Meeting link will be distributed to the attendees two days prior to the event\nContact us at: ACD.BRC@leeds.ac.uk
URL:https://hrc-surgical.nihr.ac.uk/event/clinical-trial-baskets-umbrellas-and-platforms-and-all-things-adaptive/
LOCATION:Microsoft Teams
CATEGORIES:Capacity Building and Training,HRC Themes and Support
END:VEVENT
BEGIN:VEVENT
DTSTART;TZID=UTC:20250604T120000
DTEND;TZID=UTC:20250604T130000
DTSTAMP:20260424T161939
CREATED:20250507T132759Z
LAST-MODIFIED:20250507T132759Z
UID:3243-1749038400-1749042000@hrc-surgical.nihr.ac.uk
SUMMARY:Webinar 2: Building Strategic Partnerships in West Yorkshire
DESCRIPTION:Webinar 2 will give an overview of West Yorkshire’s HealthTech Ecosystem and talk about how innovators can collaborate with key stakeholders in academia\, industry\, and the community to support the development\, adoption and scaling of their innovations.
URL:https://hrc-surgical.nihr.ac.uk/event/webinar-2-building-strategic-partnerships-in-west-yorkshire/
LOCATION:Microsoft Teams
CATEGORIES:Capacity Building and Training,HRC Partner Events
END:VEVENT
BEGIN:VEVENT
DTSTART;TZID=UTC:20250611T120000
DTEND;TZID=UTC:20250611T130000
DTSTAMP:20260424T161939
CREATED:20250507T132918Z
LAST-MODIFIED:20250507T132918Z
UID:3244-1749643200-1749646800@hrc-surgical.nihr.ac.uk
SUMMARY:Webinar 3: Developing & Funding Clinically Safe and Effective Solutions
DESCRIPTION:For early-stage innovators and researchers – this webinar will address how you can develop and validate your HealthTech innovation\, the importance of involving patients and the public\, and how you can access early-stage funding.
URL:https://hrc-surgical.nihr.ac.uk/event/webinar-3-developing-funding-clinically-safe-and-effective-solutions/
LOCATION:Microsoft Teams
CATEGORIES:Capacity Building and Training,HRC Partner Events
END:VEVENT
BEGIN:VEVENT
DTSTART;TZID=UTC:20250617T090000
DTEND;TZID=UTC:20250617T120000
DTSTAMP:20260424T161939
CREATED:20250213T105650Z
LAST-MODIFIED:20250213T105650Z
UID:3113-1750150800-1750161600@hrc-surgical.nihr.ac.uk
SUMMARY:Talking Point Tuesdays - PPIE in Grant Applications & Patient Engagement
DESCRIPTION:Join us on Tuesday 17th June at 09:00 AM at The Catalyst for a morning of insightful discussions and networking opportunities. At this exciting event\, you’ll learn all about how Patient and Public Involvement and Engagement (PPIE) can be beneficial when looking at grant applications. \nYou’ll hear examples of PPIE that may help you in your journey as health and life sciences business. \nDon’t miss out on this fantastic opportunity! \nThis event is funded by NIHR and free to attend. Attendance is available either online or in -person at The Catalyst in Newcastle. It is open to nationwide small and medium sized businesses operating in the health and life sciences sector.
URL:https://hrc-surgical.nihr.ac.uk/event/talking-point-tuesdays-ppie-in-grant-applications-patient-engagement/
LOCATION:Hybrid Event\, United Kingdom
CATEGORIES:Capacity Building and Training,HRC Partner Events
END:VEVENT
BEGIN:VEVENT
DTSTART;TZID=UTC:20250618T120000
DTEND;TZID=UTC:20250618T130000
DTSTAMP:20260424T161939
CREATED:20250507T133037Z
LAST-MODIFIED:20250507T133037Z
UID:3245-1750248000-1750251600@hrc-surgical.nihr.ac.uk
SUMMARY:Webinar 4: Unlocking NHS Reimbursement Pathways
DESCRIPTION:Gain insights into NHS procurement and reimbursement strategies and how to align early with NHS needs.
URL:https://hrc-surgical.nihr.ac.uk/event/webinar-4-unlocking-nhs-reimbursement-pathways/
LOCATION:Microsoft Teams
CATEGORIES:Capacity Building and Training,HRC Partner Events
END:VEVENT
BEGIN:VEVENT
DTSTART;TZID=UTC:20250625T120000
DTEND;TZID=UTC:20250625T130000
DTSTAMP:20260424T161939
CREATED:20250507T133202Z
LAST-MODIFIED:20250507T133202Z
UID:3246-1750852800-1750856400@hrc-surgical.nihr.ac.uk
SUMMARY:Webinar 5: Regulatory Compliance for Medical Devices
DESCRIPTION:Explore the regulatory journey for medical devices\, including common pitfalls and support available in West Yorkshire.
URL:https://hrc-surgical.nihr.ac.uk/event/webinar-5-regulatory-compliance-for-medical-devices/
LOCATION:Microsoft Teams
CATEGORIES:Capacity Building and Training,HRC Partner Events
END:VEVENT
END:VCALENDAR