 BEGIN:VCALENDAR
VERSION:2.0
PRODID:-//NIHR HealthTech Research Centre in Accelerated Surgical Care - ECPv6.15.20//NONSGML v1.0//EN
CALSCALE:GREGORIAN
METHOD:PUBLISH
X-ORIGINAL-URL:https://hrc-surgical.nihr.ac.uk
X-WR-CALDESC:Events for NIHR HealthTech Research Centre in Accelerated Surgical Care
REFRESH-INTERVAL;VALUE=DURATION:PT1H
X-Robots-Tag:noindex
X-PUBLISHED-TTL:PT1H
BEGIN:VTIMEZONE
TZID:UTC
BEGIN:STANDARD
TZOFFSETFROM:+0000
TZOFFSETTO:+0000
TZNAME:UTC
DTSTART:20250101T000000
END:STANDARD
END:VTIMEZONE
BEGIN:VEVENT
DTSTART;TZID=UTC:20260304T123000
DTEND;TZID=UTC:20260304T133000
DTSTAMP:20260422T185016
CREATED:20260303T131134Z
LAST-MODIFIED:20260303T131134Z
UID:3598-1772627400-1772631000@hrc-surgical.nihr.ac.uk
SUMMARY:First Virtual Equity Charter COP
DESCRIPTION:First Virtual Equity Charter COP date loading (4th March 12:30-13:30) \nEquity in digital health cannot be a side conversation. It has to be designed in. \nBecause digital is never neutral. \nOn 4 March\, we will be coming together for the Equity Charter Community of Practice. It is a space for honest dialogue\, shared learning\, and collective action to ensure equity genuinely shows up in our systems\, services and leadership. \nDigital tools can widen gaps or close them.\nThey can exclude quietly or empower intentionally.\nThey reflect the values of those who build and implement them. \nThis isn’t a webinar.\nIt’s not passive listening.\nIt’s a community. \nIf you work in digital\, data\, transformation\, clinical leadership\, policy\, or design \, this space is for you. \n📅 First session: 4 March | 12:30–13:30 | Virtual\n📅 3 June | 16:30–17:30\n📅 29 September | In person at HETT\n📅 25 November | 12:30–13:30 \nEquity is not an abstract principle. It is a daily practice. \nIf you would like to be part of this growing movement\, sign up here:
URL:https://hrc-surgical.nihr.ac.uk/event/first-virtual-equity-charter-cop/
CATEGORIES:Capacity Building and Training,HRC Partner Events,Non - HRC Events,Patient & Public Involvement and Engagement
END:VEVENT
BEGIN:VEVENT
DTSTART;TZID=UTC:20260311T120000
DTEND;TZID=UTC:20260311T130000
DTSTAMP:20260422T185016
CREATED:20260306T091717Z
LAST-MODIFIED:20260306T091717Z
UID:3617-1773230400-1773234000@hrc-surgical.nihr.ac.uk
SUMMARY:An introduction to the 2026 INSIGHT competition
DESCRIPTION:The 2026 INSIGHT Competition is a funding opportunity for institutions to deliver regional INSIGHT programmes that will offer engagement activities and research masters studentships in 2027\, 2028 and 2029. Regional INSIGHT programmes play a key role in attracting students and recent graduate clinicians and practitioners into research. The webinar will give participants an introduction to the programme; updates for the 2026 competition\, including the incorporation of INSPIRE funding; and advice on submitting an application. There will also be a Q&A session with panel members.
URL:https://hrc-surgical.nihr.ac.uk/event/an-introduction-to-the-2026-insight-competition/
LOCATION:Online\, United Kingdom
CATEGORIES:Capacity Building and Training,HRC Partner Events
END:VEVENT
BEGIN:VEVENT
DTSTART;TZID=UTC:20260312T130000
DTEND;TZID=UTC:20260312T143000
DTSTAMP:20260422T185016
CREATED:20260131T182947Z
LAST-MODIFIED:20260131T182947Z
UID:3575-1773320400-1773325800@hrc-surgical.nihr.ac.uk
SUMMARY:NIHR THRIVE Programme of Entrepreneurship Training and Funding
DESCRIPTION:Get ready to level up your entrepreneurial skills and secure funding at the NIHR THRIVE Programme!\n\n\n\nIn order to obtain tickets for the webinar please use Access Code: NIHR \nThe NIHR Invention for Innovation (i4i) programme is accepting applications with the second call for the researcher and clinician-led THRIVE (Translate Healthcare Research through InnoVation and Entrepreneurship) funding and training opportunity. \nTHRIVE aims to accelerate the translation of healthcare innovations tackling health inequalities from bench to bed\, speed up patient benefit and concurrently expand the entrepreneurial mindset of researchers and clinicians. \nTHRIVE is aimed at academic and clinical entrepreneurs with innovations at prototype development level (Technology Readiness Level (TRL 3)) and above to ensure that the product is advanced enough to test the market need and build a commercialisation strategy and benefit from the training by applying the ideas and frameworks to an innovation ready for translation. \nTHRIVE offers up to £150\,000 over 9 months to support the development of the technology and a structured programme of entrepreneurial training\, mentoring\, peer support and networking. Through the programme the innovators will explore the market for their innovation and identify potential routes for commercialising (spin-out vs licensing) or sustaining their innovation (Intrapreneurship). \nThe programme supports innovations that can reduce health inequalities and meet needs in underserved communities. \nApplications from underserved communities and geographies as well as under-represented innovators are encouraged.
URL:https://hrc-surgical.nihr.ac.uk/event/nihr-thrive-programme-of-entrepreneurship-training-and-funding/
LOCATION:Online\, United Kingdom
CATEGORIES:Capacity Building and Training,HRC Partner Events
END:VEVENT
BEGIN:VEVENT
DTSTART;TZID=UTC:20260324T120000
DTEND;TZID=UTC:20260324T130000
DTSTAMP:20260422T185016
CREATED:20260303T131446Z
LAST-MODIFIED:20260303T131446Z
UID:3599-1774353600-1774357200@hrc-surgical.nihr.ac.uk
SUMMARY:How to write a plain English summary
DESCRIPTION:Discover an in-depth understanding of plain English summaries and how to write an effective one at our webinar on 24 March from 12-1pm. \nAttend to discover: \n➡️ insights from a public contributor you can apply to your research application\n➡️ what support is available\n➡️ where to find useful resources \nAn integral part of research that is funded by NIHR is to ensure that patients\, carers\, service users and the public have the opportunity to shape and influence the relevance\, quality and impact of our health and care research.  \nA plain English summary is a clear\, brief summary of the research\, written for members of the public rather than researchers or professionals. \nThis webinar will be relevant to you if you are an NIHR-funded researcher or a researcher applying for an NIHR career development award.  \nThe webinar will cover: \n➡️ NIHR’s Strategic Commitments for Public Partnerships\n➡️ explanation of plain English summaries and their importance\n➡️ how to write one and what to include\n➡️ what support is available through the Research Support Service (RSS)\n➡️ signposting to useful resources  \nBy attending this webinar\, you will discover: \n➡️ an in-depth understanding of plain English summaries and how to write an effective one\n➡️ insights from a public contributor that you can apply to your research application \nThe 60-minute webinar will be facilitated by Linda Onerhime-Prince\, Senior NIHR PPI Manager and Dr Jo Lally\, Strategic Lead for Patient and Public Involvement and Engagement and Equality\, Diversity and Inclusion\, NIHR RSS.
URL:https://hrc-surgical.nihr.ac.uk/event/how-to-write-a-plain-english-summary/
CATEGORIES:Capacity Building and Training,HRC Partner Events,Non - HRC Events,Patient & Public Involvement and Engagement
END:VEVENT
BEGIN:VEVENT
DTSTART;TZID=UTC:20260324T120000
DTEND;TZID=UTC:20260324T130000
DTSTAMP:20260422T185016
CREATED:20260306T091533Z
LAST-MODIFIED:20260306T091533Z
UID:3616-1774353600-1774357200@hrc-surgical.nihr.ac.uk
SUMMARY:How to write a plain English summary
DESCRIPTION:An integral part of research that is funded by NIHR is to ensure that patients\, carers\, service users and the public have the opportunity to shape and influence the relevance\, quality and impact of our health and care research. A plain English summary is a clear\, brief summary of the research\, written for members of the public rather than researchers or professionals. This webinar will be relevant to you if you are an NIHR-funded researcher or a researcher applying for an NIHR career development award.
URL:https://hrc-surgical.nihr.ac.uk/event/how-to-write-a-plain-english-summary-2/
LOCATION:Online\, United Kingdom
CATEGORIES:Capacity Building and Training,HRC Partner Events
END:VEVENT
END:VCALENDAR