 BEGIN:VCALENDAR
VERSION:2.0
PRODID:-//NIHR HealthTech Research Centre in Accelerated Surgical Care - ECPv6.15.20//NONSGML v1.0//EN
CALSCALE:GREGORIAN
METHOD:PUBLISH
X-WR-CALNAME:NIHR HealthTech Research Centre in Accelerated Surgical Care
X-ORIGINAL-URL:https://hrc-surgical.nihr.ac.uk
X-WR-CALDESC:Events for NIHR HealthTech Research Centre in Accelerated Surgical Care
REFRESH-INTERVAL;VALUE=DURATION:PT1H
X-Robots-Tag:noindex
X-PUBLISHED-TTL:PT1H
BEGIN:VTIMEZONE
TZID:UTC
BEGIN:STANDARD
TZOFFSETFROM:+0000
TZOFFSETTO:+0000
TZNAME:UTC
DTSTART:20240101T000000
END:STANDARD
END:VTIMEZONE
BEGIN:VEVENT
DTSTART;TZID=UTC:20250702T093000
DTEND;TZID=UTC:20250702T130000
DTSTAMP:20260423T224259
CREATED:20250515T090757Z
LAST-MODIFIED:20250515T090757Z
UID:3255-1751448600-1751461200@hrc-surgical.nihr.ac.uk
SUMMARY:Medical Device Training
DESCRIPTION:The training will look to answer the following questions: \n– How to know if your technology is a Medical Device / IVD / SaMD? \n– What is the Legislation you need to meet if it is? \n– How do you work out the product Risk Class? \n– What Design Control activities are needed to ensure Regulatory Compliance? \n– What is the typical contents of a Technical File \n– What are the requirements of ISO 13485? \n– What can you do right now to ensure Regulatory Compliance?
URL:https://hrc-surgical.nihr.ac.uk/event/medical-device-training/
LOCATION:University of Leeds\, Parkinson Building\, Leeds\, West Yorkshire\, LS2 9JT\, United Kingdom
CATEGORIES:Capacity Building and Training
END:VEVENT
BEGIN:VEVENT
DTSTART;TZID=UTC:20250702T120000
DTEND;TZID=UTC:20250702T130000
DTSTAMP:20260423T224259
CREATED:20250507T133340Z
LAST-MODIFIED:20250507T133340Z
UID:3247-1751457600-1751461200@hrc-surgical.nihr.ac.uk
SUMMARY:Webinar 6: Regulatory Compliance for Digital Health
DESCRIPTION:Understand the digital health regulatory landscape\, including common pitfalls and support available in West Yorkshire.
URL:https://hrc-surgical.nihr.ac.uk/event/webinar-6-regulatory-compliance-for-digital-health/
LOCATION:Microsoft Teams
CATEGORIES:Capacity Building and Training,HRC Partner Events
END:VEVENT
END:VCALENDAR