 BEGIN:VCALENDAR
VERSION:2.0
PRODID:-//NIHR HealthTech Research Centre in Accelerated Surgical Care - ECPv6.15.20//NONSGML v1.0//EN
CALSCALE:GREGORIAN
METHOD:PUBLISH
X-WR-CALNAME:NIHR HealthTech Research Centre in Accelerated Surgical Care
X-ORIGINAL-URL:https://hrc-surgical.nihr.ac.uk
X-WR-CALDESC:Events for NIHR HealthTech Research Centre in Accelerated Surgical Care
REFRESH-INTERVAL;VALUE=DURATION:PT1H
X-Robots-Tag:noindex
X-PUBLISHED-TTL:PT1H
BEGIN:VTIMEZONE
TZID:UTC
BEGIN:STANDARD
TZOFFSETFROM:+0000
TZOFFSETTO:+0000
TZNAME:UTC
DTSTART:20240101T000000
END:STANDARD
END:VTIMEZONE
BEGIN:VEVENT
DTSTART;VALUE=DATE:20250930
DTEND;VALUE=DATE:20251002
DTSTAMP:20260426T002108
CREATED:20250901T145503Z
LAST-MODIFIED:20250901T145503Z
UID:3384-1759190400-1759363199@hrc-surgical.nihr.ac.uk
SUMMARY:Evidence Generation for Diagnostics Development
DESCRIPTION:New diagnostics can provide great advantages to patient care. However\, diagnostics developers need to provide a portfolio of evidence that demonstrates these benefits before their technologies can reach the UK market and benefit patients\, the public and the health and care system. \nJoin us for a step-by-step guide to evidence development for new diagnostics. \nAttendees will learn: \n*What evidence should be produced? \n*Why is the evidence important? \n*How can the evidence be generated? \nThe course will introduce key concepts and is suitable for anyone with an interest in this area. \nPresentations last 30 minutes with a 15 minute question and answer session at the end. \nAttendees will receive recordings and content from the presentations after the course.
URL:https://hrc-surgical.nihr.ac.uk/event/evidence-generation-for-diagnostics-development/
LOCATION:Online\, United Kingdom
CATEGORIES:HRC Partner Events
END:VEVENT
BEGIN:VEVENT
DTSTART;TZID=UTC:20251001T140000
DTEND;TZID=UTC:20251001T153000
DTSTAMP:20260426T002108
CREATED:20250929T155602Z
LAST-MODIFIED:20250929T155602Z
UID:3408-1759327200-1759332600@hrc-surgical.nihr.ac.uk
SUMMARY:NIHR i4i Webinar: Opportunity for New MedTech Funding Applications
DESCRIPTION:NIHR i4i Webinar: Opportunity for New MedTech Funding Applications\nBy Invention for Innovation | NIHR \nJoin our webinar to learn about funding opportunities for new MedTech projects from NIHR i4i!
URL:https://hrc-surgical.nihr.ac.uk/event/nihr-i4i-webinar-opportunity-for-new-medtech-funding-applications/
LOCATION:Online\, United Kingdom
CATEGORIES:HRC Partner Events
END:VEVENT
BEGIN:VEVENT
DTSTART;TZID=UTC:20251001T160000
DTEND;TZID=UTC:20251001T180000
DTSTAMP:20260426T002108
CREATED:20250929T160132Z
LAST-MODIFIED:20250929T160132Z
UID:3409-1759334400-1759341600@hrc-surgical.nihr.ac.uk
SUMMARY:Nexus Connect: Digital Twins
DESCRIPTION:Join us at the panel and networking series Nexus Connect\, for an exclusive deep dive into the world of Digital Twins\, with a special focus on Nexus’ own digital twin. Enjoy refreshments\, a lively panel discussion and meaningful conversations. \nThe event brings together industry leaders\, innovators\, and researchers to explore how digital replicas of physical assets are revolutionising decision-making\, sustainability\, and operational efficiency. \nSpeakers: \nDennis Dokter | Smart Cities Lead at the University of Leeds\, Nexus\nMichelle Morris | Professor of Data Science for Food at the University of Leeds\nDavid McKee | Chief Technology Officer at Crysp and Digital Twin Ambassador / UK\, Ireland & North America at the Digital Twin Consortium\nWho’s it for? \nNexus Connect is open to anyone with an interest in innovation and collaboration\, regardless of role\, seniority or sector. \nWe welcome: \nAll Nexus member businesses\nEntrepreneurs and professionals\, at all levels\, from innovative and tech-led businesses\nUniversity of Leeds academic and professional staff \nAbout Nexus \nNexus is a vibrant community for innovators and entrepreneurs. We help turn your big ideas into reality\, whether that’s developing a new product or growing a successful business. We bring together the brightest minds from business\, technology and academia. Our community of high-growth businesses is located across the globe but has its physical base in a state-of-the-art innovation hub on the University of Leeds campus.
URL:https://hrc-surgical.nihr.ac.uk/event/nexus-connect-digital-twins/
LOCATION:Nexus Leeds\, Nexus at Leeds University\, Discovery Way University of Leeds\, Leeds\, West Yorkshire\, LS2 3AA\, United Kingdom
CATEGORIES:HRC Partner Events
END:VEVENT
BEGIN:VEVENT
DTSTART;TZID=UTC:20251002T140000
DTEND;TZID=UTC:20251002T160000
DTSTAMP:20260426T002108
CREATED:20250912T121621Z
LAST-MODIFIED:20250912T121621Z
UID:3389-1759413600-1759420800@hrc-surgical.nihr.ac.uk
SUMMARY:Research transparency webinar - sharing results with research participants
DESCRIPTION:Join webinar for researchers\, providing support on sharing results with participants and clarity on the new clinical trials regulations
URL:https://hrc-surgical.nihr.ac.uk/event/research-transparency-webinar-sharing-results-with-research-participants/
LOCATION:Online\, United Kingdom
CATEGORIES:Non - HRC Events
END:VEVENT
BEGIN:VEVENT
DTSTART;VALUE=DATE:20251003
DTEND;VALUE=DATE:20251004
DTSTAMP:20260426T002108
CREATED:20250715T094539Z
LAST-MODIFIED:20250715T094539Z
UID:3351-1759449600-1759535999@hrc-surgical.nihr.ac.uk
SUMMARY:Diagnostics North East Conference 2025
DESCRIPTION:‘Diagnostics in healthcare\, 2035 … where will we be\, and how do we get there?’
URL:https://hrc-surgical.nihr.ac.uk/event/diagnostics-north-east-conference-2025/
LOCATION:The Catalyst\, Science Square\, Newcastle Helix\,\, Newcastle upon Tyne\, NE4 5TG\, United Kingdom
CATEGORIES:HRC Partner Events
END:VEVENT
BEGIN:VEVENT
DTSTART;TZID=UTC:20251003T093000
DTEND;TZID=UTC:20251003T173000
DTSTAMP:20260426T002108
CREATED:20250610T142318Z
LAST-MODIFIED:20250610T142318Z
UID:3305-1759483800-1759512600@hrc-surgical.nihr.ac.uk
SUMMARY:2025 SEHTA International MedTech Expo & Conference
DESCRIPTION:The SME focused healthcare event for driving collaborations between Business\, Care & Clinicians & Academics for the MedTech\, Lifesciences\, Medical Devices\, Diagnostics\, Digital Health\, NHS Sector.
URL:https://hrc-surgical.nihr.ac.uk/event/2025-sehta-international-medtech-expo-conference/
LOCATION:11 Cavendish Square\, 11 Cavendish Square\, London\, W1G 0AN\, United Kingdom
CATEGORIES:Non - HRC Events
END:VEVENT
BEGIN:VEVENT
DTSTART;TZID=UTC:20251007T083000
DTEND;TZID=UTC:20251007T110000
DTSTAMP:20260426T002108
CREATED:20250924T091929Z
LAST-MODIFIED:20250924T091929Z
UID:3397-1759825800-1759834800@hrc-surgical.nihr.ac.uk
SUMMARY:Empowering Aging in Place
DESCRIPTION:Keynote speakers will be Ashley Dalton\, Parliamentary Under-Secretary of State for Public Health and Prevention in the Department of Health and Social Care\, and Alyson Scurfield\, CEO of Technology Enabled Care Services Association (TSA). Panelists will share their unique perspectives into how collaborative technology can enhance health outcomes\, improve quality of life and create new market opportunities. This will be followed by a discussion on a Canadian Elderly Healthcare Success Story. \nAll guests must bring Photo ID and register for this event\, if your name does not appear on the official guestlist or you do not have Photo ID you risk not being allowed access to the venue.
URL:https://hrc-surgical.nihr.ac.uk/event/empowering-aging-in-place/
LOCATION:High Commission of Canada\, Canada House\, Trafalgar Square London\, London\, SW1Y 5BJ\, United Kingdom
CATEGORIES:Non - HRC Events
END:VEVENT
BEGIN:VEVENT
DTSTART;TZID=UTC:20251007T090000
DTEND;TZID=UTC:20251007T170000
DTSTAMP:20260426T002108
CREATED:20250729T114628Z
LAST-MODIFIED:20250729T114628Z
UID:3361-1759827600-1759856400@hrc-surgical.nihr.ac.uk
SUMMARY:Innovate UK ISP56 – Sensing Technologies for Health
DESCRIPTION:The 56th Innovate UK Intelligent Sensing Program (ISP56 – Sensing Technologies for Health) is a one-day networking event in partnership with Sensors Innovation Leadership Council (SILC)\, designed to spark collaboration among sensor technology communities\, healthcare professionals\, life sciences experts\, and other key stakeholders. The core objective is to catalyse innovation and accelerate the development of emerging sensing technologies to address pressing challenges in the UK’s healthcare sector. \nAs the nation contends with increasing healthcare costs and an ageing population\, innovative technologies such as wearables\, digital health tools\, Artificial Intelligence\, and precision medicine offer potential for more sustainable and cost-effective care. The UK’s health sector – comprising high-quality services\, advanced medical research\, and renowned institutions like the NHS\, AstraZeneca\, and GSK- requires ongoing innovation to remain effective and accessible. \n\n\n\n\n\n\nAbout the event\n\n\n\n\n\n\n\n\n\n\n\n\nKey technology experts from industry\, researchers\, and innovators will share their expertise & knowledge on subjects relating to following: \n\nHealthcare market needs and opportunities for sensing technologies.\nThe latest advancements in sensing technologies for health\nEmerging and novel sensing technologies for health.\nRelevant innovation funding opportunities in the UK.\n\nThe event agenda will be published once all speakers have been confirmed in the near future. \n\n\n\n\n\n\n\n\n\n\n\n\nWhy attend this event?\n\n\n\n\n\n\n\n\n\n\n\n\nThis event serves as a cross-disciplinary platform to exchange knowledge\, forge new partnerships\, and spark inventive ideas that promote technological advancements in the health domain. Attendees will benefit from expert-led presentations and discussions focused on healthcare market opportunities for sensing technologies\, state-of-the-art innovations\, emerging solutions\, and UK-specific funding avenues for tech development. \nIn addition to formal presentations\, the workshop will feature networking opportunities and limited exhibition spaces\, allowing interested organisations to showcase their technologies\, services\, and expertise to an audience primed for collaboration. Through this\, the event aims to enhance the pace and impact of business innovation and drive transformational progress across the healthcare sector in the UK. \n\n\n\n\n\n\n\n\n\n\n\n\nWho is this event for?\n\n\n\n\n\n\n\n\n\n\n\n\nISP56 – Sensing Technologies for Health is an open\, one-day networking workshop\, aiming to bring together relevant cross-sectorial communities\, including: \n\nSensing technology communities\nInnovators developing sensor-based solutions\nHealthcare companies exploring new tech partnerships\nResearch labs and academics focused on digital health\, diagnostics\, or wearable tech\nIoT and AI companies interested in healthcare applications\nOther interested healthcare sector stakeholders\n\nThis will be an opportunity to share knowledge\, network\, and develop new partnerships to help promote and accelerate business innovation of sensing technologies across the UK. The overall aim is to help address the challenges faced by the sector and to transform the health sector in the UK. \n 
URL:https://hrc-surgical.nihr.ac.uk/event/innovate-uk-isp56-sensing-technologies-for-health/
LOCATION:West Yorkshire
CATEGORIES:Non - HRC Events
END:VEVENT
BEGIN:VEVENT
DTSTART;TZID=UTC:20251014T100000
DTEND;TZID=UTC:20251014T160000
DTSTAMP:20260426T002108
CREATED:20250501T130902Z
LAST-MODIFIED:20250501T130902Z
UID:3234-1760436000-1760457600@hrc-surgical.nihr.ac.uk
SUMMARY:AI in the NHS 2025
DESCRIPTION:With the opportunities for artificial intelligence in health care expanding and new technologies igniting political and media debate\, the drive to understand how to effectively and responsibly implement AI in the NHS continues unabated. \nAt our AI event in July 2024\, we called for the development of a dedicated strategy for AI in health care. Senior leaders including Karin Smyth MP\, Minister of State for Health with responsibility for NHS data and technology\, set out their vision for the strategic direction of AI in the NHS. \nAt our 2025 event\, we’ll hear international perspectives on how the challenges of effectively implementing AI in health care are being approached elsewhere and consider what the UK can learn from these experiences. \nJoin stakeholders from across the NHS\, government\, tech industry\, investors\, academia and the charity sector who are leading the strategic direction\, development and implementation of AI and technology in health care.
URL:https://hrc-surgical.nihr.ac.uk/event/ai-in-the-nhs-2025/
LOCATION:Microsoft Teams
CATEGORIES:Non - HRC Events
END:VEVENT
BEGIN:VEVENT
DTSTART;TZID=UTC:20251014T120000
DTEND;TZID=UTC:20251014T160000
DTSTAMP:20260426T002108
CREATED:20251002T131616Z
LAST-MODIFIED:20251002T131616Z
UID:3418-1760443200-1760457600@hrc-surgical.nihr.ac.uk
SUMMARY:Allotype BioDiscovery:  Unlocking the Power of Proteomics   Olink Seminar 2025
DESCRIPTION:Olink and the University of Leeds are proud to announce the launch of Allotype BioDiscovery\, a new venture dedicated to advancing precision proteomics and translational research. \nProteomics is taking the breakthroughs of genomics to the next level. As a vital force behind the next wave of scientific discovery\, proteomics is transforming our understanding of disease mechanisms\, early diagnosis and therapeutic development across many diseases and conditions – accelerating the path to personalized treatment. \nJoin us for an exclusive in-person event where science meets impact. Explore how affinity-based proteomics is revolutionizing drug discovery\, deepening our grasp of complex diseases\, and shaping the future of healthcare. Connect with leading experts\, see the latest innovations in action\, and be part of the conversation that’s redefining precision medicine. Come along and learn how to accelerate your proteomic discovery through strategic collaboration between academia\, healthcare and drug discovery.
URL:https://hrc-surgical.nihr.ac.uk/event/allotype-biodiscovery-unlocking-the-power-of-proteomics-olink-seminar-2025/
LOCATION:Nexus Leeds\, Nexus at Leeds University\, Discovery Way University of Leeds\, Leeds\, West Yorkshire\, LS2 3AA\, United Kingdom
CATEGORIES:HRC Partner Events
END:VEVENT
BEGIN:VEVENT
DTSTART;VALUE=DATE:20251021
DTEND;VALUE=DATE:20251023
DTSTAMP:20260426T002108
CREATED:20250716T144756Z
LAST-MODIFIED:20250716T144756Z
UID:3354-1761004800-1761177599@hrc-surgical.nihr.ac.uk
SUMMARY:The MedTech and Diagnostics Conference 2025
DESCRIPTION:The MedTech and Diagnostics Conference 2025: Connecting the Ecosystem is set to explore the future of diagnostics and healthcare delivery in the UK\, spotlighting the nation’s strengths in NHS clinical excellence\, innovative R&D\, and advanced wound care. \nThe agenda features keynote presentations on the next decade of MedTech\, with deep dives into decentralisation\, AI in pathology\, multi‑omics for chronic diseases and sustainable drug delivery. \nThis dynamic two‑day event will unite 150 experts from academia\, healthcare\, biotech\, pharma and government\, offering a mix of invited talks\, interactive panels and networking opportunities. Join us to learn from industry pioneers\, share ideas and forge new connections within this rapidly advancing field.
URL:https://hrc-surgical.nihr.ac.uk/event/the-medtech-and-diagnostics-conference-2025/
LOCATION:Prince Philip House\, Prince Philip House\, 3 Carlton House Terrace\,\, London\, SW1Y 5DG\, United Kingdom
CATEGORIES:Non - HRC Events
END:VEVENT
BEGIN:VEVENT
DTSTART;TZID=UTC:20251022T113000
DTEND;TZID=UTC:20251022T123000
DTSTAMP:20260426T002108
CREATED:20251001T135514Z
LAST-MODIFIED:20251001T135514Z
UID:3413-1761132600-1761136200@hrc-surgical.nihr.ac.uk
SUMMARY:Economic evaluation for new health tech\, devices\, tests and digital health
DESCRIPTION:Economic evaluation for new health tech\, devices\, tests and digital health\nWednesday 22nd October\, 11:30 – 12:30\nLeeds Unit for Complex Intervention Development (LUCID) hybrid seminar presented by Dr Armando Vargas-Palacios and Paola Cocco.\nThis seminar is open to staff and postgraduates at the University of Leeds and Leeds-based health professionals.\nTo receive the seminar invite\, please email LUCID@leeds.ac.uk
URL:https://hrc-surgical.nihr.ac.uk/event/economic-evaluation-for-new-health-tech-devices-tests-and-digital-health/
LOCATION:Online\, United Kingdom
CATEGORIES:HRC Themes and Support
END:VEVENT
BEGIN:VEVENT
DTSTART;TZID=UTC:20251030T090000
DTEND;TZID=UTC:20251030T170000
DTSTAMP:20260426T002108
CREATED:20251023T183412Z
LAST-MODIFIED:20251023T184348Z
UID:3442-1761814800-1761843600@hrc-surgical.nihr.ac.uk
SUMMARY:International Consortium for Advanced Rehabilitation Technologies (iCART)
DESCRIPTION:The International Consortium for Advanced Rehabilitation Technologies (iCART) is excited to invite you to an upcoming workshop “International Rehabilitation Technology Workshop – Global Challenges and Opportunities in Rehabilitation Technology Development”\, taking place as a hybrid event on 30th October\, 2025 in Nexus\, Leeds\, United Kingdom. You can find the agenda and speakers information\, event location on our website: https://cart.leeds.ac.uk/international-rehabilitation-technology-workshop/ \nThe workshop’s theme\, “Rehabilitation Technology\,” emphasises the importance of advancing inclusive innovation through global collaboration and evidence-based research. The program will feature keynote talks and panel discussions led by leading experts from academia and clinical practice. These sessions will cover the latest advancements\, clinical challenges\, and translational opportunities in rehabilitation technology\, with a particular focus on tailoring solutions to diverse patient populations and healthcare systems worldwide. \nTo help us finalise numbers for catering\, please using the following link to register by 22nd October.
URL:https://hrc-surgical.nihr.ac.uk/event/international-consortium-for-advanced-rehabilitation-technologies-icart/
LOCATION:West Yorkshire
END:VEVENT
END:VCALENDAR